BEGIN:VCALENDAR
VERSION:2.0
PRODID:-//ChamberMaster//Event Calendar 2.0//EN
METHOD:PUBLISH
X-PUBLISHED-TTL:P3D
REFRESH-INTERVAL:P3D
CALSCALE:GREGORIAN
BEGIN:VEVENT
DTSTART:20250801T210000Z
DTEND:20250801T233000Z
X-MICROSOFT-CDO-ALLDAYEVENT:FALSE
SUMMARY:Norwood Beach Youth + Adult Triathlons
DESCRIPTION:Norwood Beach Youth + Adult Triathlons\n\nThe Town of Potsdam Recreational Dept. is hosting a recreational Triathlon competition on Friday\, July 1st with two divisions\, for kids and adults. \n\n\n\nThe triathlon is a sport that has gained popularity in recent years. Whether you are a serious swimmer\, cyclist or runner\, or an average recreational athlete\, you can enjoy this time trial which includes swimming/kayaking\, cycling and running. The triathlon is used by some as a training tool to sharpen their skills. To others\, it offers the personal challenge of developing fitness in three different activities.\n\n\n\nYouth Triathlon (Ages 4-10)\n\n5PM - 6PM\n\nHelmets are required and lifejackets are permitted.\n\n	100-Yard Swim\n	2-Mile Bike\n	1-Mile Run\n\nAdults (Ages 11+)\n\n6PM - 7:30PM\n\nHelmets are required. \n\n	1/4-Mile Swim (or 1-Mile Kayak)\n	8-Mile Bike\n	1.5-Mile Run
X-ALT-DESC;FMTTYPE=text/html:<span style="font-size:18px\;"><strong>Norwood Beach Youth + Adult Triathlons</strong></span><br />\nThe Town of Potsdam Recreational Dept. is hosting a recreational Triathlon competition on Friday\, July 1st with two divisions\, for kids and adults.&nbsp\;<br />\n<br />\nThe triathlon is a sport that has gained popularity in recent years. Whether you are a serious swimmer\, cyclist or runner\, or an average recreational athlete\, you can enjoy this time trial which includes swimming/kayaking\, cycling and running. The triathlon is used by some as a training tool to sharpen their skills. To others\, it offers the personal challenge of developing fitness in three different activities.<br />\n<br />\n<strong><span style="font-size: 18px\;">Youth Triathlon (Ages 4-10)</span></strong><br />\n<strong>5PM - 6PM</strong><br />\nHelmets are required and lifejackets are permitted.\n<ul>\n	<li>100-Yard Swim</li>\n	<li>2-Mile Bike</li>\n	<li>1-Mile Run</li>\n</ul>\n<strong><span style="font-size:18px\;">Adults (Ages 11+)</span></strong><br />\n<strong>6PM - 7:30PM</strong><br />\nHelmets are required.&nbsp\;\n<ul>\n	<li>1/4-Mile Swim (or 1-Mile Kayak)</li>\n	<li>8-Mile Bike</li>\n	<li>1.5-Mile Run</li>\n</ul>\n
LOCATION:Norwood Beach 425 Lakeshore Drive | Norwood\, NY 13668
UID:e.2288.20484
SEQUENCE:3
DTSTAMP:20260420T225004Z
URL:http://visitstl-gzcms.preview.gochambermaster.com/events/details/norwood-beach-youth-triathlon-08-01-2025-20484
END:VEVENT

END:VCALENDAR
