BEGIN:VCALENDAR
VERSION:2.0
PRODID:-//ChamberMaster//Event Calendar 2.0//EN
METHOD:PUBLISH
X-PUBLISHED-TTL:P3D
REFRESH-INTERVAL:P3D
CALSCALE:GREGORIAN
BEGIN:VEVENT
DTSTART:20190530T190000Z
DTEND:20190531T010000Z
X-MICROSOFT-CDO-ALLDAYEVENT:FALSE
SUMMARY:Norwood Village Green Concerts - SLCMEA Pop Choral/Stage Band Festival
DESCRIPTION:The Norwood Village Green Concert Series 46th Annual Season opens Thursday\, May 30th with the annual St. Lawrence County Music Educators Association Pop Choral/Stage Band Festival. The Festival begins at 3:00 pm and will include performing groups from 9 performing groups from 6 local school districts. For further information consult the series website: nvgcs.org or call 315-261-2866
X-ALT-DESC;FMTTYPE=text/html:The Norwood Village Green Concert Series 46th Annual Season opens Thursday\, May 30th with the annual St. Lawrence County Music Educators Association Pop Choral/Stage Band Festival. The Festival begins at 3:00 pm and will include performing groups from 9 performing groups from 6 local school districts. For further information consult the series website: nvgcs.org or call 315-261-2866
LOCATION:Liotta Bandshell\, Norwood Village Green. Bernard ave. and Park Ave.
UID:e.2288.8049
SEQUENCE:3
DTSTAMP:20260426T025618Z
URL:http://visitstl-gzcms.preview.gochambermaster.com/events/details/norwood-village-green-concerts-slcmea-pop-choral-stage-band-festival-8049
END:VEVENT

END:VCALENDAR
