BEGIN:VCALENDAR
VERSION:2.0
PRODID:-//ChamberMaster//Event Calendar 2.0//EN
METHOD:PUBLISH
X-PUBLISHED-TTL:P3D
REFRESH-INTERVAL:P3D
CALSCALE:GREGORIAN
BEGIN:VEVENT
DTSTART;VALUE=DATE:20220625
DTEND;VALUE=DATE:20220627
TRANSP:TRANSPARENT
X-MICROSOFT-CDO-ALLDAYEVENT:TRUE
SUMMARY:NYS Free Fishing Days
DESCRIPTION:During Free Fishing Days/Weekends\, anyone can fish the fresh waters of New York State and no fishing license is required! All other freshwater fishing regulations still apply.\n\n \nIdeas for Free Fishing Days\n\n\n	Try fishing for the first time.\n	Haven't fished in a while? Remember the joy of catching a fish again for free!\n	Become an ambassador to the sport\; take a friend fishing for the first time.\n	Invite a friend to New York to fish.\n	Take a spouse or significant other fishing.\n	Take the family fishing...and don't forget the grandparents!\n\n\nLearn more about fishing in St. Lawrence County at www.Fishcap.net
X-ALT-DESC;FMTTYPE=text/html:<span style="font-family: Helvetica\, Arial\, Verdana\, Geneva\, sans-serif\; font-size: 15.2px\; background-color: rgb(255\, 255\, 255)\;">During Free Fishing Days/Weekends\, anyone can fish the fresh waters of New York State and no&nbsp\;</span><a href="https://www.dec.ny.gov/permits/6091.html" style="text-decoration-line: none\; color: rgb(0\, 122\, 183)\; font-family: Helvetica\, Arial\, Verdana\, Geneva\, sans-serif\; font-size: 15.2px\; background-color: rgb(255\, 255\, 255)\;">fishing license</a><span style="font-family: Helvetica\, Arial\, Verdana\, Geneva\, sans-serif\; font-size: 15.2px\; background-color: rgb(255\, 255\, 255)\;">&nbsp\;is required! All other&nbsp\;</span><a href="https://www.dec.ny.gov/outdoor/7917.html" style="text-decoration-line: none\; color: rgb(0\, 122\, 183)\; font-family: Helvetica\, Arial\, Verdana\, Geneva\, sans-serif\; font-size: 15.2px\; background-color: rgb(255\, 255\, 255)\;">freshwater fishing regulations</a><span style="font-family: Helvetica\, Arial\, Verdana\, Geneva\, sans-serif\; font-size: 15.2px\; background-color: rgb(255\, 255\, 255)\;">&nbsp\;still apply.</span><br />\n&nbsp\;\n<h3 style="margin: 0px 0px 0.25em\; font-variant-numeric: normal\; font-variant-east-asian: normal\; font-weight: bold\; font-stretch: normal\; font-size: 22.04px\; line-height: 1.3em\; font-family: Helvetica\, Arial\, Verdana\, Geneva\, sans-serif\; color: rgb(46\, 123\, 57)\;">Ideas for Free Fishing Days</h3>\n\n<ul style="margin: 0.25em 0px 1em 1.25em\; padding-right: 0px\; padding-left: 0px\; color: rgb(0\, 0\, 0)\; font-family: &quot\;Times New Roman&quot\;\; font-size: 15.2px\;">\n	<li style="font-variant-numeric: normal\; font-variant-east-asian: normal\; font-stretch: normal\; font-size: 15.2px\; line-height: 1.55em\; font-family: Helvetica\, Arial\, Verdana\, Geneva\, sans-serif\; margin: 0px 0px 0.25em\;">Try fishing for the first time.</li>\n	<li style="font-variant-numeric: normal\; font-variant-east-asian: normal\; font-stretch: normal\; font-size: 15.2px\; line-height: 1.55em\; font-family: Helvetica\, Arial\, Verdana\, Geneva\, sans-serif\; margin: 0px 0px 0.25em\;">Haven&#39\;t fished in a while? Remember the joy of catching a fish again for free!</li>\n	<li style="font-variant-numeric: normal\; font-variant-east-asian: normal\; font-stretch: normal\; font-size: 15.2px\; line-height: 1.55em\; font-family: Helvetica\, Arial\, Verdana\, Geneva\, sans-serif\; margin: 0px 0px 0.25em\;">Become an ambassador to the sport\; take a friend fishing for the first time.</li>\n	<li style="font-variant-numeric: normal\; font-variant-east-asian: normal\; font-stretch: normal\; font-size: 15.2px\; line-height: 1.55em\; font-family: Helvetica\, Arial\, Verdana\, Geneva\, sans-serif\; margin: 0px 0px 0.25em\;">Invite a friend to New York to fish.</li>\n	<li style="font-variant-numeric: normal\; font-variant-east-asian: normal\; font-stretch: normal\; font-size: 15.2px\; line-height: 1.55em\; font-family: Helvetica\, Arial\, Verdana\, Geneva\, sans-serif\; margin: 0px 0px 0.25em\;">Take a spouse or significant other fishing.</li>\n	<li style="font-variant-numeric: normal\; font-variant-east-asian: normal\; font-stretch: normal\; font-size: 15.2px\; line-height: 1.55em\; font-family: Helvetica\, Arial\, Verdana\, Geneva\, sans-serif\; margin: 0px 0px 0.25em\;">Take the family fishing...and don&#39\;t forget the grandparents!</li>\n</ul>\n\n<div style="font-variant-numeric: normal\; font-variant-east-asian: normal\; font-stretch: normal\; font-size: 15.2px\; line-height: 1.55em\; font-family: Helvetica\, Arial\, Verdana\, Geneva\, sans-serif\; margin: 0px 0px 0.25em\;">Learn more about fishing in St. Lawrence County at <a href="https://www.fishcap.net/">www.Fishcap.net</a></div>\n
LOCATION:
UID:e.2288.11112
SEQUENCE:3
DTSTAMP:20260420T190553Z
URL:http://visitstl-gzcms.preview.gochambermaster.com/events/details/nys-free-fishing-days-11112
END:VEVENT

END:VCALENDAR
