BEGIN:VCALENDAR
VERSION:2.0
PRODID:-//ChamberMaster//Event Calendar 2.0//EN
METHOD:PUBLISH
X-PUBLISHED-TTL:P3D
REFRESH-INTERVAL:P3D
CALSCALE:GREGORIAN
BEGIN:VEVENT
DTSTART:20191002T160000Z
DTEND:20191002T170000Z
X-MICROSOFT-CDO-ALLDAYEVENT:FALSE
SUMMARY:October Webinar - Online Member Center Overview
DESCRIPTION:Register here: http://bit.ly/STLCMembers\n\n\n\nOctober Topic: Are you taking full advantage of the benefits you receive with your membership to the St. Lawrence County Chamber of Commerce? This is a good time to check your online business directory listing to confirm all the information is accurate\, change a photo\, or add in new content. Google values Chamber sites as a trusted link and will display your web page higher up on the search results page. \n\n\n\nAs a member of our chamber\, you have an online business directory listing on our website\, VisitSTLC.com. This is where you can include a brief description of your business\, hours of operation\, and link to Google maps for easy directions. If you have an Enhanced Membership\, you're also able to add in your Social Media channels\, longer business description\, photos and more! \n\n\n\nDon't miss out on this opportunity to increase your search rankings and gain more local business through your online business directory!\n\n\n\nPresenter: Mike Besaw\, Assistant Director\, St. Lawrence County Chamber of Commerce.
X-ALT-DESC;FMTTYPE=text/html:<span style="font-size:16px\;"><span style="color:#0000FF\;"><span style="white-space: pre-wrap\;"><strong>Register here: </strong></span></span><a data-lynx-mode="hover" data-lynx-uri="https://l.facebook.com/l.php?u=https%3A%2F%2Fbit.ly%2FSTLCMembers%3Ffbclid%3DIwAR0VvU7CX3eo-UmbhPPtoB2BLlxI_-56q7ThdofttSf2TcjXYRGzKmCiweg&amp\;h=AT0U4IFnyOHk1Lg_DarmJUp9BmKGnrySAWaHT3EaNQp-1HNdVK20V-dUTjTopnqZJ1SjjUCouFIPudKHMnkTnBQL8VyjIPCEqBMdE6FeQM-dutYnrIzmMot7hJgevgaXaA" href="https://bit.ly/STLCMembers?fbclid=IwAR0VvU7CX3eo-UmbhPPtoB2BLlxI_-56q7ThdofttSf2TcjXYRGzKmCiweg" rel="nofollow noopener" style="color: rgb(56\, 88\, 152)\; cursor: pointer\; text-decoration-line: none\; font-family: Helvetica\, Arial\, sans-serif\; font-size: 14px\; white-space: pre-wrap\;" target="_blank"><span style="color:#0000FF\;">http://bit.ly/STLCMembers</span></a><br />\n<br />\n<span style="font-family:arial\;"><span style="color: rgb(29\, 33\, 41)\; white-space: pre-wrap\;"><strong>October Topic</strong>: Are you taking full advantage of the benefits you receive with your membership to the St. Lawrence County Chamber of Commerce? This is a good time to check your online business directory listing to confirm all the information is accurate\, change a photo\, or add in new content. Google values Chamber sites as a trusted link and will display your web page higher up on the search results page. </span><br style="color: rgb(29\, 33\, 41)\; font-family: Helvetica\, Arial\, sans-serif\; font-size: 14px\; white-space: pre-wrap\;" />\n<br style="color: rgb(29\, 33\, 41)\; font-family: Helvetica\, Arial\, sans-serif\; font-size: 14px\; white-space: pre-wrap\;" />\n<span style="color: rgb(29\, 33\, 41)\; white-space: pre-wrap\;">As a member of our chamber\, you have an online business directory listing on our website\, </span><a data-lynx-mode="hover" href="https://l.facebook.com/l.php?u=http%3A%2F%2FVisitSTLC.com%2F%3Ffbclid%3DIwAR2masM659MreUvtkbbhb7rwG_SI7Eh5HFqcaWKbfqQ87k3qCSRCB4bZGmM&amp\;h=AT3VTHjYwlMnZZWnLwHkAs56jD-Sl9qN4XFZNgN8VpoV6PRb6eSR7gwt8pl_yu0UbzU-DHdDZvYesvQkrLQddh-QSLVOW_8Vght8r_7zPM0jPtaTYX3L-fntwYdPruaS1Q" rel="nofollow noopener" style="color: rgb(56\, 88\, 152)\; cursor: pointer\; text-decoration-line: none\; font-family: Helvetica\, Arial\, sans-serif\; font-size: 14px\; white-space: pre-wrap\;" target="_blank">VisitSTLC.com.</a><span style="color: rgb(29\, 33\, 41)\; white-space: pre-wrap\;"> This is where you can include a brief description of your business\, hours of operation\, and link to Google maps for easy directions. If you have an Enhanced Membership\, you&rsquo\;re also able to add in your Social Media channels\, longer business description\, photos and more! </span><br style="color: rgb(29\, 33\, 41)\; font-family: Helvetica\, Arial\, sans-serif\; font-size: 14px\; white-space: pre-wrap\;" />\n<br style="color: rgb(29\, 33\, 41)\; font-family: Helvetica\, Arial\, sans-serif\; font-size: 14px\; white-space: pre-wrap\;" />\n<span style="color: rgb(29\, 33\, 41)\; white-space: pre-wrap\;">Don&rsquo\;t miss out on this opportunity to increase your search rankings and gain more local business through your online business directory!</span><br style="color: rgb(29\, 33\, 41)\; font-family: Helvetica\, Arial\, sans-serif\; font-size: 14px\; white-space: pre-wrap\;" />\n<br style="color: rgb(29\, 33\, 41)\; font-family: Helvetica\, Arial\, sans-serif\; font-size: 14px\; white-space: pre-wrap\;" />\n<span style="color: rgb(29\, 33\, 41)\; white-space: pre-wrap\;">Presenter: Mike Besaw\, Assistant Director\, St. Lawrence County Chamber of Commerce. </span></span></span>
LOCATION:Zoom Webinar
UID:e.2288.8363
SEQUENCE:3
DTSTAMP:20260425T160741Z
URL:http://visitstl-gzcms.preview.gochambermaster.com/events/details/october-webinar-online-member-center-overview-8363
END:VEVENT

END:VCALENDAR
