BEGIN:VCALENDAR
VERSION:2.0
PRODID:-//ChamberMaster//Event Calendar 2.0//EN
METHOD:PUBLISH
X-PUBLISHED-TTL:P3D
REFRESH-INTERVAL:P3D
CALSCALE:GREGORIAN
BEGIN:VEVENT
DTSTART:20230322T224500Z
DTEND:20230323T014500Z
X-MICROSOFT-CDO-ALLDAYEVENT:FALSE
SUMMARY:Ogdensburg Command Performance-Beauty & The Beast On Ice
DESCRIPTION:This original fairy tale is spun with upbeat\, modern music\, theatrical story lines\, and out of this world special effects\, all on the stage in George Hall Auditorium. Happiness is founded in virtue...Honesty is always best. Expect to see world champion ice skaters\, cirque performers\, and live singers bring this beloved tale to life!\n\n\n\n"Magic is alive & memories are made!"
X-ALT-DESC;FMTTYPE=text/html:This original fairy tale is spun with upbeat\, modern music\, theatrical story lines\, and out of this world special effects\, all on the stage in George Hall Auditorium. Happiness is founded in virtue...Honesty is always best. Expect to see world champion ice skaters\, cirque performers\, and live singers bring this beloved tale to life!<br />\n<br />\n&quot\;Magic is alive &amp\; memories are made!&quot\;
LOCATION:George Hall Auditorium-Ogdensburg Free Academy 1100 State St Ogdensburg\, NY 13669
UID:e.2288.11147
SEQUENCE:3
DTSTAMP:20260421T202446Z
URL:http://visitstl-gzcms.preview.gochambermaster.com/events/details/ogdensburg-command-performance-beauty-the-beast-on-ice-11147
END:VEVENT

END:VCALENDAR
