BEGIN:VCALENDAR
VERSION:2.0
PRODID:-//ChamberMaster//Event Calendar 2.0//EN
METHOD:PUBLISH
X-PUBLISHED-TTL:P3D
REFRESH-INTERVAL:P3D
CALSCALE:GREGORIAN
BEGIN:VEVENT
DTSTART;VALUE=DATE:20240224
DTEND;VALUE=DATE:20240225
TRANSP:TRANSPARENT
X-MICROSOFT-CDO-ALLDAYEVENT:TRUE
SUMMARY:Ogdensburg Command Performances: Grand Shanghai Circus
DESCRIPTION:Grand Shanghai Circus\n\nSaturday | February 24\, 2024 | 4 PM\n\nOgdensburg Free Academy Auditorium\n\nThe Amazing Acrobats of shanghai honor the essence of the old historic Shanghai Culture and transport you to current Shanghai through the excellent skills of dynamic artist that include dare-devil acts with a harmonious combination of the performing arts. By combining stage LED technological innovations & exceptional artistic performances a Grand Shanghai Circus will deliver a higher level of dazzling entertainment that includes breathtaking acrobatics\, colorful dance\, comedy\, mystifying magic\, and numerous aerial feats of strength.\n\n\n\n"Thrilling\, daring\, colorful & energetic!"
X-ALT-DESC;FMTTYPE=text/html:<h2 style="font-family: &quot\;Droid Sans&quot\;\, sans-serif\; color: rgb(0\, 0\, 0)\; font-size: 22px\; line-height: 26px\; letter-spacing: -0.03em\; padding-bottom: 10px\;"><span style="font-size:28px\;"><b>Grand Shanghai Circus</b></span></h2>\n\n<h2 style="font-family: &quot\;Droid Sans&quot\;\, sans-serif\; color: rgb(0\, 0\, 0)\; font-size: 22px\; line-height: 26px\; letter-spacing: -0.03em\; padding-bottom: 10px\;"><span style="color: rgb(128\, 0\, 128)\;">Saturday&nbsp\;</span><span style="color: rgb(255\, 0\, 102)\;"><strong>|</strong></span><strong><span style="color: rgb(255\, 0\, 153)\;">&nbsp\;</span></strong><span style="color: rgb(128\, 0\, 128)\;">February 24\,&nbsp\;2024&nbsp\;</span><span style="color: rgb(255\, 0\, 102)\;"><strong>|&nbsp\;4 PM</strong></span><br />\n<span style="color: rgb(142\, 68\, 173)\;"><span style="font-size: 16px\;">Ogdensburg Free Academy Auditorium</span></span></h2>\n\n<p style="color: rgb(0\, 0\, 0)\; font-family: &quot\;Droid Sans&quot\;\, sans-serif\; font-size: 18px\;">The Amazing Acrobats of shanghai honor the essence of the old historic Shanghai Culture and transport you to current Shanghai through the excellent skills of dynamic artist that include dare-devil acts with a harmonious combination of the performing arts.&nbsp\;By combining stage LED technological innovations &amp\; exceptional artistic performances a&nbsp\;Grand Shanghai Circus will deliver a higher level of dazzling entertainment that includes breathtaking acrobatics\,&nbsp\;colorful dance\, comedy\, mystifying magic\, and&nbsp\;numerous aerial feats of strength.<br />\n<br />\n<em><strong><span style="color: rgb(128\, 0\, 128)\;">&quot\;Thrilling\, daring\, colorful &amp\; energetic!&quot\;</span></strong></em></p>\n
LOCATION:Ogdensburg Free Academy Auditorium 1100 State Street Ogdensburg\, NY 13669
UID:e.2288.16345
SEQUENCE:3
DTSTAMP:20260422T073132Z
URL:http://visitstl-gzcms.preview.gochambermaster.com/events/details/ogdensburg-command-performances-grand-shanghai-circus-16345
END:VEVENT

END:VCALENDAR
