BEGIN:VCALENDAR
VERSION:2.0
PRODID:-//ChamberMaster//Event Calendar 2.0//EN
METHOD:PUBLISH
X-PUBLISHED-TTL:P3D
REFRESH-INTERVAL:P3D
CALSCALE:GREGORIAN
BEGIN:VEVENT
DTSTART:20250510T153000Z
DTEND:20250510T163000Z
X-MICROSOFT-CDO-ALLDAYEVENT:FALSE
SUMMARY:Ogdensburg's Four Seasons Children's Program
DESCRIPTION:Ogdensburg's Four Seasons Children's Program\n\nLed by retired Kindergarten teacher Nancy Wilson Mashaw\, the program will focus on the theme of "Make Ogdensburg Beautiful" and will highlight the city's four seasons. Children will have the opportunity to participate in a story\, activity\, make their own planter and plant a flower.\n\n\n\nThe event is free and open to the public\, but registration is required. Interested participants can register online at ogdensburghistorymuseum.com. For any questions\, please contact the museum at oburghistorymuseum@gmail.com.\n\n\n\nThe Ogdensburg History Museum is dedicated to preserving and sharing the rich history of Ogdensburg and its surrounding areas. Through exhibits\, programs\, and events\, the museum strives to educate and engage the community in the city's past.
X-ALT-DESC;FMTTYPE=text/html:<p><span style="font-size:18px\;"><strong>Ogdensburg&#39\;s Four Seasons Children&#39\;s Program</strong></span><br />\nLed by retired Kindergarten teacher Nancy Wilson Mashaw\, the program will focus on the theme of &ldquo\;Make Ogdensburg Beautiful&rdquo\; and will highlight the city&rsquo\;s four seasons. Children will have the opportunity to participate in a story\, activity\, make their own planter and plant a flower.<br />\n<br />\nThe event is free and open to the public\, but registration is required. Interested participants can register online at ogdensburghistorymuseum.com. For any questions\, please contact the museum at oburghistorymuseum@gmail.com.<br />\n<br />\n<em>The Ogdensburg History Museum is dedicated to preserving and sharing the rich history of Ogdensburg and its surrounding areas. Through exhibits\, programs\, and events\, the museum strives to educate and engage the community in the city&rsquo\;s past.</em></p>\n
LOCATION:Ogdensburg History Museum 206 Ford Street\, Ogdensburg\, NY 13669
UID:e.2288.20155
SEQUENCE:3
DTSTAMP:20260421T213851Z
URL:http://visitstl-gzcms.preview.gochambermaster.com/events/details/ogdensburg-s-four-seasons-children-s-program-20155
END:VEVENT

END:VCALENDAR
