BEGIN:VCALENDAR
VERSION:2.0
PRODID:-//ChamberMaster//Event Calendar 2.0//EN
METHOD:PUBLISH
X-PUBLISHED-TTL:P3D
REFRESH-INTERVAL:P3D
CALSCALE:GREGORIAN
BEGIN:VEVENT
DTSTART:20221001T160000Z
DTEND:20221001T220000Z
X-MICROSOFT-CDO-ALLDAYEVENT:FALSE
SUMMARY:Oktobeer Fest
DESCRIPTION:Vendor List:\n\n	In-Law Brewing Company\n	Hex and Hop Brewing\n	Bright Star Winery\n	Maple Brewing\n	An Italian Affair\n	Pig & Moo BBG\n	Hardy's Bakery\n	Talk of the Town Baked Goods\n	Newcombe's Maple Ridge\n	Seaway Crafts\n	Amo's Country Barn\n	Tessie's Treasures\n	Sunny Side Up: Farm Fresh Products\n	Worden's Custom Wood & Vinyl\n	Louisville Lions Club\n	Clix Photo Booth From 2-6PM\n	Simply Handmade by Erin\n	Peets Jewelers/Family Roots Gifts & Engraving\n\nLive music from Merryweather Band & Easy Street Band\n\n\n\nBonfire and single elimination cornhole tournament\n\n\n\nIf you are not on the vendor list and would like to be\, please email recclerk.louisville@gmail.com.
X-ALT-DESC;FMTTYPE=text/html:Vendor List:\n<ul>\n	<li>In-Law Brewing Company</li>\n	<li>Hex and Hop Brewing</li>\n	<li>Bright Star Winery</li>\n	<li>Maple Brewing</li>\n	<li>An Italian Affair</li>\n	<li>Pig &amp\; Moo BBG</li>\n	<li>Hardy&#39\;s Bakery</li>\n	<li>Talk of the Town Baked Goods</li>\n	<li>Newcombe&#39\;s Maple Ridge</li>\n	<li>Seaway Crafts</li>\n	<li>Amo&#39\;s Country Barn</li>\n	<li>Tessie&#39\;s Treasures</li>\n	<li>Sunny Side Up: Farm Fresh Products</li>\n	<li>Worden&#39\;s Custom Wood &amp\; Vinyl</li>\n	<li>Louisville Lions Club</li>\n	<li>Clix Photo Booth From 2-6PM</li>\n	<li>Simply Handmade by Erin</li>\n	<li>Peets Jewelers/Family Roots Gifts &amp\; Engraving</li>\n</ul>\nLive music from Merryweather Band &amp\; Easy Street Band<br />\n<br />\nBonfire and single elimination cornhole tournament<br />\n<br />\nIf you are not on the vendor list and would like to be\, please email recclerk.louisville@gmail.com.
LOCATION:Whalen Park Louisville\, NY 13662
UID:e.2288.11279
SEQUENCE:3
DTSTAMP:20260421T033536Z
URL:http://visitstl-gzcms.preview.gochambermaster.com/events/details/oktobeer-fest-11279
END:VEVENT

END:VCALENDAR
