BEGIN:VCALENDAR
VERSION:2.0
PRODID:-//ChamberMaster//Event Calendar 2.0//EN
METHOD:PUBLISH
X-PUBLISHED-TTL:P3D
REFRESH-INTERVAL:P3D
CALSCALE:GREGORIAN
BEGIN:VEVENT
DTSTART:20251017T220000Z
DTEND:20251018T000000Z
X-MICROSOFT-CDO-ALLDAYEVENT:FALSE
SUMMARY:Oktoberfest
DESCRIPTION:Oktoberfest\n\nCelebrate the magic of fall with us at The Best Western University Inn on Friday\, October 17th for an Oktoberfest event filled with seasonal flavors\, live entertainment\, and fireside cheer. Whether you're toasting with friends or kicking off a weekend getaway\, our Oktoberfest celebration is the perfect way to welcome fall. Warm drinks\, cool nights\, great company\, this is fall at its finest. Follow more on the Facebook Event Page. \n\n	Savor the Season with a curated selection of fall beers and handcrafted autumn cocktails\n	Taste the Tradition with festive food offerings inspired by classic Oktoberfest fare\n	Feel the Rhythm with live music by Nicholous Rycroft that brings the celebration to life\n	Cozy Up at our outdoor fire\, perfect for crisp October nights
X-ALT-DESC;FMTTYPE=text/html:<span style="font-size:18px\;"><strong>Oktoberfest</strong></span><br />\nCelebrate the magic of fall with us at The Best Western University Inn on Friday\, October 17th for an Oktoberfest event filled with seasonal flavors\, live entertainment\, and fireside cheer.&nbsp\;Whether you&#39\;re toasting with friends or kicking off a weekend getaway\, our Oktoberfest celebration is the perfect way to welcome fall. Warm drinks\, cool nights\, great company\, this is fall at its finest. Follow more on the <a href="https://www.facebook.com/events/1311777280580990/?acontext=%7B%22event_action_history%22%3A[%7B%22surface%22%3A%22external%22%7D%2C%7B%22mechanism%22%3A%22attachment%22%2C%22surface%22%3A%22newsfeed%22%7D]%2C%22ref_notif_type%22%3Anull%7D" target="_blank">Facebook Event Page</a>.&nbsp\;\n<ul>\n	<li>Savor the Season with a curated selection of fall beers and handcrafted autumn cocktails</li>\n	<li>Taste the Tradition with festive food offerings inspired by classic Oktoberfest fare</li>\n	<li>Feel the Rhythm with live music by Nicholous Rycroft that brings the celebration to life</li>\n	<li>Cozy Up at our outdoor fire\, perfect for crisp October nights</li>\n</ul>\n
LOCATION:Best Western University 90 E Main St. | Canton\, NY out front under the porte cochere
UID:e.2288.20608
SEQUENCE:3
DTSTAMP:20260421T001505Z
URL:http://visitstl-gzcms.preview.gochambermaster.com/events/details/oktoberfest-10-17-2025-20608
END:VEVENT

END:VCALENDAR
