BEGIN:VCALENDAR
VERSION:2.0
PRODID:-//ChamberMaster//Event Calendar 2.0//EN
METHOD:PUBLISH
X-PUBLISHED-TTL:P3D
REFRESH-INTERVAL:P3D
CALSCALE:GREGORIAN
BEGIN:VEVENT
DTSTART:20191009T170000Z
DTEND:20191009T180000Z
X-MICROSOFT-CDO-ALLDAYEVENT:FALSE
SUMMARY:One Hour One Work at the Remington Museum
DESCRIPTION:An opportunity to slow down and dive deep into a single work of art on display at the Remington Museum. Each session\, a Museum educator facilitates 60 minutes of focused looking\, consideration\, conversation\, and interpretation of a single artwork. Four sessions are offered each month\, with a different artwork featured each month. Boat House at Ingleneuk\, ca. 1903-1907
X-ALT-DESC;FMTTYPE=text/html:An opportunity to slow down and dive deep into a single work of art on display at the Remington Museum. Each session\, a Museum educator facilitates 60 minutes of focused looking\, consideration\, conversation\, and interpretation of a single artwork. Four sessions are offered each month\, with a different artwork featured each month. Boat House at Ingleneuk\, ca. 1903-1907
LOCATION:Frederic Remington Art Museum 303 Washington Street Ogdensburg\, NY 13669
UID:e.2288.8270
SEQUENCE:3
DTSTAMP:20260425T122218Z
URL:http://visitstl-gzcms.preview.gochambermaster.com/events/details/one-hour-one-work-at-the-remington-museum-10-09-2019-8270
END:VEVENT

END:VCALENDAR
