BEGIN:VCALENDAR
VERSION:2.0
PRODID:-//ChamberMaster//Event Calendar 2.0//EN
METHOD:PUBLISH
X-PUBLISHED-TTL:P3D
REFRESH-INTERVAL:P3D
CALSCALE:GREGORIAN
BEGIN:VEVENT
DTSTART:20250712T100000Z
DTEND:20250712T180000Z
X-MICROSOFT-CDO-ALLDAYEVENT:FALSE
SUMMARY:Phoenix Bass Fishing League on St. Lawrence River
DESCRIPTION:Phoenix Bass Fishing League North Division\n\nMassena Intake Dam - St. Lawrence River\n\nOrganized by Major League Fishing and hosted by Fish Massena.
X-ALT-DESC;FMTTYPE=text/html:<span style="font-size:18px\;"><strong>Phoenix Bass Fishing League North Division</strong><br />\nMassena Intake Dam - St. Lawrence River</span><br />\nOrganized by&nbsp\;<a href="https://majorleaguefishing.com/" target="_blank">Major League Fishing</a>&nbsp\;and hosted by&nbsp\;<a href="https://fishmassenany.com/" target="_blank">Fish Massena</a>.
LOCATION:Massena Intake Dam 1415 State Highway 131 Massena\, NY 13662
UID:e.2288.20081
SEQUENCE:3
DTSTAMP:20260421T001804Z
URL:http://visitstl-gzcms.preview.gochambermaster.com/events/details/phoenix-bass-fishing-league-on-st-lawrence-river-20081
END:VEVENT

END:VCALENDAR
