BEGIN:VCALENDAR
VERSION:2.0
PRODID:-//ChamberMaster//Event Calendar 2.0//EN
METHOD:PUBLISH
X-PUBLISHED-TTL:P3D
REFRESH-INTERVAL:P3D
CALSCALE:GREGORIAN
BEGIN:VEVENT
DTSTART:20250803T160000Z
DTEND:20250803T190000Z
X-MICROSOFT-CDO-ALLDAYEVENT:FALSE
SUMMARY:Plein Air Show & Sale
DESCRIPTION:Plein Air Show & Sale\n\nHosted by: Friends of the Morristown Public Library\n\n\n\nA Show and Cash and Carry Sale will open to the public. Art painted by painters participating in the Plein Air Festival will be displayed for sale. Live music and refreshments will be served. Awards are announced at 2pm.
X-ALT-DESC;FMTTYPE=text/html:<span style="font-size:18px\;"><strong>Plein Air Show &amp\; Sale</strong></span><br />\n<strong>Hosted by: Friends of the Morristown Public Library</strong><br />\n<br />\nA Show and Cash and Carry Sale will open to the public. Art painted by painters participating in the Plein Air Festival will be displayed for sale. Live music and refreshments will be served. Awards are announced at 2pm.
LOCATION:Bella-Brooke Vineyard 2989 County Rte 6\,\, Hammond\, NY 13646
UID:e.2288.20449
SEQUENCE:3
DTSTAMP:20260421T001736Z
URL:http://visitstl-gzcms.preview.gochambermaster.com/events/details/plein-air-show-sale-20449
END:VEVENT

END:VCALENDAR
