BEGIN:VCALENDAR
VERSION:2.0
PRODID:-//ChamberMaster//Event Calendar 2.0//EN
METHOD:PUBLISH
X-PUBLISHED-TTL:P3D
REFRESH-INTERVAL:P3D
CALSCALE:GREGORIAN
BEGIN:VEVENT
DTSTART:20211204T150000Z
DTEND:20211204T200000Z
X-MICROSOFT-CDO-ALLDAYEVENT:FALSE
SUMMARY:POP UP POP IN ART MARKET
DESCRIPTION:Holiday art market at My Corner Studio- Jewelry and Inlay\, guests Regan Defranza-Boundless Bookworks\, Vicky Day-Trout Lake Designs \, hand turned pens and more\, Cait Throop-weaving and color art\, and Dennis Delrossi- Bole Creations Woodworking.   Covid vaccination and masks will be required. Check mycornerstudio at facebook for updates\, or email mycornerstudio55@gmail.com for more info.
X-ALT-DESC;FMTTYPE=text/html:Holiday art market at My Corner Studio- Jewelry and Inlay\, guests Regan Defranza-Boundless Bookworks\, Vicky Day-Trout Lake Designs \, hand turned pens and more\, Cait Throop-weaving and color art\, and Dennis Delrossi- Bole Creations Woodworking.&nbsp\; &nbsp\;Covid vaccination and masks will be required. Check mycornerstudio at facebook for updates\, or email mycornerstudio55@gmail.com for more info.
LOCATION:My Corner Studio 651 SH 310 Canton\, NY
UID:e.2288.10823
SEQUENCE:3
DTSTAMP:20260421T065343Z
URL:http://visitstl-gzcms.preview.gochambermaster.com/events/details/pop-up-pop-in-art-market-10823
END:VEVENT

END:VCALENDAR
