BEGIN:VCALENDAR
VERSION:2.0
PRODID:-//ChamberMaster//Event Calendar 2.0//EN
METHOD:PUBLISH
X-PUBLISHED-TTL:P3D
REFRESH-INTERVAL:P3D
CALSCALE:GREGORIAN
BEGIN:VEVENT
DTSTART:20250712T120000Z
DTEND:20250712T130000Z
X-MICROSOFT-CDO-ALLDAYEVENT:FALSE
SUMMARY:Postwood Park Youth + Adult Triathlons
DESCRIPTION:Postwood Park Youth + Adult Triathlons\n\nThe Town of Potsdam Recreational Dept. is hosting a recreational Triathlon competition on Saturday\, July 12th with two divisions\, for kids and adults. \n\n\n\nThe triathlon is a sport that has gained popularity in recent years. Whether you are a serious swimmer\, cyclist or runner\, or an average recreational athlete\, you can enjoy this time trial which includes swimming/kayaking\, cycling and running. The triathlon is used by some as a training tool to sharpen their skills. To others\, it offers the personal challenge of developing fitness in three different activities.\n\n\n\nYouth Triathlon (Ages 4-10)\n\n	Registration at 7AM\n	Race at 8AM\n	100-Yard Swim\n	2-Mile Bike\n	1-Mile Run\n\nAdult Triathlon (Ages 11+)\n\n\n	Registration at 8AM\n	Race at 9AM\n	1/4-Mile Swim (or 1-Mile Kayak)\n	8-Mile Bike\n	1.5-Mile Run
X-ALT-DESC;FMTTYPE=text/html:<span style="font-size:18px\;"><strong>Postwood Park Youth + Adult Triathlons</strong></span><br />\nThe Town of Potsdam Recreational Dept. is hosting a recreational Triathlon competition on Saturday\, July 12th with two divisions\, for kids and adults.&nbsp\;<br />\n<br />\nThe triathlon is a sport that has gained popularity in recent years. Whether you are a serious swimmer\, cyclist or runner\, or an average recreational athlete\, you can enjoy this time trial which includes swimming/kayaking\, cycling and running. The triathlon is used by some as a training tool to sharpen their skills. To others\, it offers the personal challenge of developing fitness in three different activities.<br />\n<br />\n<strong><span style="font-size: 18px\;">Youth Triathlon (Ages 4-10)</span></strong>\n<ul>\n	<li><strong>Registration at 7AM</strong></li>\n	<li><strong>Race&nbsp\;at 8AM</strong></li>\n	<li>100-Yard Swim</li>\n	<li>2-Mile Bike</li>\n	<li>1-Mile Run</li>\n</ul>\n<strong><span style="font-size: 18px\;">Adult Triathlon (Ages 11+)</span></strong>\n\n<ul>\n	<li><strong>Registration at 8AM</strong></li>\n	<li><strong>Race&nbsp\;at 9AM</strong></li>\n	<li>1/4-Mile Swim (or 1-Mile Kayak)</li>\n	<li>8-Mile Bike</li>\n	<li>1.5-Mile Run</li>\n</ul>\n
LOCATION:Postwood Park 63 Postwood Park Rd. | Hannawa Falls\, NY
UID:e.2288.20471
SEQUENCE:3
DTSTAMP:20260421T001802Z
URL:http://visitstl-gzcms.preview.gochambermaster.com/events/details/postwood-park-youth-adult-triathlons-20471
END:VEVENT

END:VCALENDAR
