BEGIN:VCALENDAR
VERSION:2.0
PRODID:-//ChamberMaster//Event Calendar 2.0//EN
METHOD:PUBLISH
X-PUBLISHED-TTL:P3D
REFRESH-INTERVAL:P3D
CALSCALE:GREGORIAN
BEGIN:VEVENT
DTSTART;VALUE=DATE:20220714
DTEND;VALUE=DATE:20220717
TRANSP:TRANSPARENT
X-MICROSOFT-CDO-ALLDAYEVENT:TRUE
SUMMARY:Potsdam Summer Festival
DESCRIPTION:Food trucks and local vendors\, fireworks and live music\, laser tag and family fun\, beer wine cider tent\, and a cornhole tournament! \n\nFull schedule of events from Friday - Sunday on www.potsdamchamber.com
X-ALT-DESC;FMTTYPE=text/html:Food trucks and local vendors\, fireworks and live music\, laser tag and family fun\, beer wine cider tent\, and a cornhole tournament!&nbsp\;<br />\nFull schedule of events from Friday - Sunday on www.potsdamchamber.com
LOCATION:All throughout Potsdam!
UID:e.2288.10967
SEQUENCE:3
DTSTAMP:20260420T214708Z
URL:http://visitstl-gzcms.preview.gochambermaster.com/events/details/potsdam-summer-festival-10967
END:VEVENT

END:VCALENDAR
