BEGIN:VCALENDAR
VERSION:2.0
PRODID:-//ChamberMaster//Event Calendar 2.0//EN
METHOD:PUBLISH
X-PUBLISHED-TTL:P3D
REFRESH-INTERVAL:P3D
CALSCALE:GREGORIAN
BEGIN:VEVENT
DTSTART:20230917T170000Z
DTEND:20230917T210000Z
X-MICROSOFT-CDO-ALLDAYEVENT:FALSE
SUMMARY:Pure Country Performance
DESCRIPTION:PURE COUNTRY PERFORMANCE\n\nThe band Pure Country will be performing at Amvets Post 1997 in Heuvelton on September 17 from 1:00-5:00pm. The Amvets kitchen will be open. $5 cover charge.
X-ALT-DESC;FMTTYPE=text/html:<strong><span style="font-size:20px\;">PURE COUNTRY PERFORMANCE</span></strong><br />\nThe band Pure Country will be performing at Amvets Post 1997 in Heuvelton on September 17 from 1:00-5:00pm. The Amvets kitchen will be open. $5 cover charge.
LOCATION:Amvets Post 1997 107 State Street Heuvelton\, NY
UID:e.2288.15423
SEQUENCE:3
DTSTAMP:20260422T094756Z
URL:http://visitstl-gzcms.preview.gochambermaster.com/events/details/pure-country-performance-15423
END:VEVENT

END:VCALENDAR
