BEGIN:VCALENDAR
VERSION:2.0
PRODID:-//ChamberMaster//Event Calendar 2.0//EN
METHOD:PUBLISH
X-PUBLISHED-TTL:P3D
REFRESH-INTERVAL:P3D
CALSCALE:GREGORIAN
BEGIN:VEVENT
DTSTART:20250308T153000Z
DTEND:20250308T163000Z
X-MICROSOFT-CDO-ALLDAYEVENT:FALSE
SUMMARY:Record Painting Workshop
DESCRIPTION:Record Painting Workshop with Shelby Weeks\n\nJoin SLC Arts for a super unique class with Shelby Weeks at the SLC Arts Creative Spirit Community Arts Center! Participants will paint directly onto records. All materials are provided just bring your creativity!
X-ALT-DESC;FMTTYPE=text/html:<span style="font-size:18px\;"><strong>Record Painting Workshop with Shelby Weeks</strong></span><br />\nJoin SLC Arts for a super unique class with Shelby Weeks at the SLC Arts Creative Spirit Community Arts Center! Participants will paint directly onto records.&nbsp\;All materials are provided&mdash\;just bring your creativity!
LOCATION:Creative Spirit Community Arts Center 6-8 Raymond Street Potsdam\, NY 13676
UID:e.2288.19977
SEQUENCE:3
DTSTAMP:20260421T215113Z
URL:http://visitstl-gzcms.preview.gochambermaster.com/events/details/record-painting-workshop-19977
END:VEVENT

END:VCALENDAR
