BEGIN:VCALENDAR
VERSION:2.0
PRODID:-//ChamberMaster//Event Calendar 2.0//EN
METHOD:PUBLISH
X-PUBLISHED-TTL:P3D
REFRESH-INTERVAL:P3D
CALSCALE:GREGORIAN
BEGIN:VEVENT
DTSTART:20251011T130000Z
DTEND:20251011T180000Z
X-MICROSOFT-CDO-ALLDAYEVENT:FALSE
SUMMARY:Reggie Sapp Memorial Meat Smoking & BBQ Workshop
DESCRIPTION:Reggie Sapp Memorial Meat Smoking & BBQ Workshop\n\nParticipants will get to observe the process of preparing meat for smoking and see components of the cooking process. They will also learn about different smoking techniques and supplies. Finally\, there will be a trimming demo with a hands-on portion where each participant will get to trim pork shoulder\, season it\, and store it in a vacuum sealed bag to take home. We will also be raffling off door prizes! A lunch of smoked meat and sides will be provided for all participants at noon.\n\n\n\nInstructor: Mike Morgan\, owner of Morgan's Munchies & Catering\, a Mobile Food Trailer specializing in smoked BBQ pork\, beef & turkey with BBQ-style sides.\n\n\n\nRegistration is required and limited to 12 participants. We are offering this course in honor of the late Reggie Sapp\, who served on the CCE St. Lawrence board of director's for 6 years. Reggie was a proud supporter of agriculture\, a restaurant owner\, and was passionate about cooking\, specifically BBQ and smoked meats. His house was always open and his kitchen in operation. His pride and joy was his cookhouse with its many grills and cook tops.
X-ALT-DESC;FMTTYPE=text/html:<span style="font-size:16px\;"><strong>Reggie Sapp Memorial Meat Smoking &amp\; BBQ Workshop</strong></span><br />\nParticipants will get to observe the process of preparing meat for smoking and see components of the cooking process. They will also learn about different smoking techniques and supplies. Finally\, there will be a trimming demo with a hands-on portion where each participant will get to trim pork shoulder\, season it\, and store it in a vacuum sealed bag to take home. We will also be raffling off door prizes! A lunch of smoked meat and sides will be provided for all participants at noon.<br />\n<br />\nInstructor: Mike Morgan\, owner of Morgan&#39\;s Munchies &amp\; Catering\, a Mobile Food Trailer specializing in smoked BBQ pork\, beef &amp\; turkey with BBQ-style sides.<br />\n<br />\nRegistration is required and limited to 12 participants. We are offering this course in honor of the late Reggie Sapp\, who served on the CCE St. Lawrence board of director&rsquo\;s for 6 years. Reggie was a proud supporter of agriculture\, a restaurant owner\, and was passionate about cooking\, specifically BBQ and smoked meats. His house was always open and his kitchen in operation. His pride and joy was his cookhouse with its many grills and cook tops.
LOCATION:Cornell Cooperative Extension of St. Lawrence County 2043B State Highway 68 | Canton\, NY 13617
UID:e.2288.20596
SEQUENCE:3
DTSTAMP:20260420T164314Z
URL:http://visitstl-gzcms.preview.gochambermaster.com/events/details/reggie-sapp-memorial-meat-smoking-bbq-workshop-10-11-2025-20596
END:VEVENT

END:VCALENDAR
