BEGIN:VCALENDAR
VERSION:2.0
PRODID:-//ChamberMaster//Event Calendar 2.0//EN
METHOD:PUBLISH
X-PUBLISHED-TTL:P3D
REFRESH-INTERVAL:P3D
CALSCALE:GREGORIAN
BEGIN:VEVENT
DTSTART:20220629T160000Z
DTEND:20220629T163000Z
X-MICROSOFT-CDO-ALLDAYEVENT:FALSE
SUMMARY:Remington Museum Program Considers “Illinois National Guards Picket in the Streets of Chicago at Night”
DESCRIPTION:This free\, on-site/virtual hybrid program takes place over Zoom or in person at the Museum and offers guided exploration of a single work of art at the Remington Museum\; this month's artwork is Remington's Illinois National Guards Picket in the Streets of Chicago at Night. Museum Curator & Educator Laura Desmond and docent Kathy Crowe will guide the discussion. Read more about this great program and other upcoming sessions. Call (315) 393-2425 or email to sign up.
X-ALT-DESC;FMTTYPE=text/html:This free\, on-site/virtual hybrid program takes place over Zoom or in person at the Museum and offers guided exploration of a single work of art at the Remington Museum\; this month&#39\;s artwork is Remington&#39\;s Illinois National Guards Picket in the Streets of Chicago at Night. Museum Curator &amp\; Educator Laura Desmond and docent Kathy Crowe will guide the discussion. Read more about this great program and other upcoming sessions. Call (315) 393-2425 or email to sign up.
LOCATION:This on-site/virtual hybrid program takes place over Zoom or in person at the Museum. 303 Washington Street\, Ogdensburg\, NY 13669
UID:e.2288.11120
SEQUENCE:3
DTSTAMP:20260420T190624Z
URL:http://visitstl-gzcms.preview.gochambermaster.com/events/details/remington-museum-program-considers-illinois-national-guards-picket-in-the-streets-of-chicago-at-night-11120
END:VEVENT

END:VCALENDAR
