BEGIN:VCALENDAR
VERSION:2.0
PRODID:-//ChamberMaster//Event Calendar 2.0//EN
METHOD:PUBLISH
X-PUBLISHED-TTL:P3D
REFRESH-INTERVAL:P3D
CALSCALE:GREGORIAN
BEGIN:VEVENT
DTSTART:20190802T230000Z
DTEND:20190803T010000Z
X-MICROSOFT-CDO-ALLDAYEVENT:FALSE
SUMMARY:Remington Nocturne: Plein Air Festival Reception
DESCRIPTION:As part of the Morristown Plein Air Festival\, the Remington Museum will host a public reception. This fun\, annual event is an opportunity for visiting artists to unwind and socialize with one another and with the public while enjoying the Museum's outstanding collection of original artwork by Frederic Remington. Artists are invited to paint en plein air as evening descends over the diverse and expansive grounds surrounding the Museum. Cash bar and snacks provided.
X-ALT-DESC;FMTTYPE=text/html:As part of the Morristown Plein Air Festival\, the Remington Museum will host a public reception. This fun\, annual event is an opportunity for visiting artists to unwind and socialize with one another and with the public while enjoying the Museum&rsquo\;s outstanding collection of original artwork by Frederic Remington. Artists are invited to paint en plein air as evening descends over the diverse and expansive grounds surrounding the Museum. Cash bar and snacks provided.
LOCATION:Frederic Remington Art Museum 303 Washington Street Ogdensburg\, NY 13669
UID:e.2288.8162
SEQUENCE:3
DTSTAMP:20260425T173855Z
URL:http://visitstl-gzcms.preview.gochambermaster.com/events/details/remington-nocturne-plein-air-festival-reception-8162
END:VEVENT

END:VCALENDAR
