BEGIN:VCALENDAR
VERSION:2.0
PRODID:-//ChamberMaster//Event Calendar 2.0//EN
METHOD:PUBLISH
X-PUBLISHED-TTL:P3D
REFRESH-INTERVAL:P3D
CALSCALE:GREGORIAN
BEGIN:VEVENT
DTSTART:20240724T210000Z
DTEND:20240724T230000Z
X-MICROSOFT-CDO-ALLDAYEVENT:FALSE
SUMMARY:Remington Reunion Celebration
DESCRIPTION:REMINGTON REUNION CELEBRATION\n\n\n\nJoin the fun at the 2nd annual Remington Reunion Celebration for the whole community during Ogdensburg's Seaway Festival! Come together with fellow Museum patrons and community members to celebrate your Museum. Enjoy a wonderful hors d'oeuvre reception with beer and wine open bar\, provided by Gran-View Restaurant.
X-ALT-DESC;FMTTYPE=text/html:<strong><span style="font-size:20px\;">REMINGTON REUNION CELEBRATION</span></strong><br />\n<br />\nJoin the fun at the 2nd annual Remington Reunion Celebration for the whole community during Ogdensburg&#39\;s Seaway Festival! Come together with fellow Museum patrons and community members to celebrate your Museum. Enjoy a wonderful hors d&rsquo\;oeuvre reception with beer and wine open bar\, provided by Gran-View Restaurant.
LOCATION:Frederic Remington Art Museum 303 Washington St Ogdensburg\, NY 13669
UID:e.2288.18472
SEQUENCE:3
DTSTAMP:20260422T020246Z
URL:http://visitstl-gzcms.preview.gochambermaster.com/events/details/remington-reunion-celebration-07-24-2024-18472
END:VEVENT

END:VCALENDAR
