BEGIN:VCALENDAR
VERSION:2.0
PRODID:-//ChamberMaster//Event Calendar 2.0//EN
METHOD:PUBLISH
X-PUBLISHED-TTL:P3D
REFRESH-INTERVAL:P3D
CALSCALE:GREGORIAN
BEGIN:VEVENT
DTSTART:20250628T140000Z
DTEND:20250628T160000Z
X-MICROSOFT-CDO-ALLDAYEVENT:FALSE
SUMMARY:Remote Monitoring with Drones
DESCRIPTION:Remote Monitoring with Drones\n\nJoin Indian Creek Nature Center Board Member Dan French at the Upper and Lower Lakes Fishing Access on Rt. 68 in Canton\, NY to learn how drones can be used to detect and monitor plants and animals in the air and underwater. Dan will be joined by Tracy Thomas from the Nicandri Nature Center who will show off their aquatic drone.
X-ALT-DESC;FMTTYPE=text/html:<span style="font-size:18px\;"><strong>Remote Monitoring with Drones</strong></span><br />\nJoin Indian Creek Nature Center Board Member Dan French at the <a href="https://dec.ny.gov/places/upper-and-lower-lakes-wildlife-management-area" target="_blank">Upper and Lower Lakes Fishing Access</a> on Rt. 68 in Canton\, NY to learn how drones can be used to detect and monitor plants and animals in the air and underwater. Dan will be joined by Tracy Thomas from the Nicandri Nature Center who will show off their aquatic drone.
LOCATION:Upper and Lower Lakes Fishing Access Rt. 68 Canton\, NY 13617 Located 3 miles west of the village of Canton and 12 miles east of the city of Ogdensburg.
UID:e.2288.20317
SEQUENCE:3
DTSTAMP:20260421T043649Z
URL:http://visitstl-gzcms.preview.gochambermaster.com/events/details/remote-monitoring-with-drones-20317
END:VEVENT

END:VCALENDAR
