BEGIN:VCALENDAR
VERSION:2.0
PRODID:-//ChamberMaster//Event Calendar 2.0//EN
METHOD:PUBLISH
X-PUBLISHED-TTL:P3D
REFRESH-INTERVAL:P3D
CALSCALE:GREGORIAN
BEGIN:VEVENT
DTSTART:20250517T120000Z
DTEND:20250518T200000Z
X-MICROSOFT-CDO-ALLDAYEVENT:FALSE
SUMMARY:Rensselaer Falls FD Rummage Sale
DESCRIPTION:Rensselaer Falls FD Rummage Sale\n\nThe Rensselaer Falls Volunteer Auxiliary is hosting a Rummage Sale at the Rensselaer Falls Fire Department on May 17th & 18th from 8:00AM-4:00PM. Find great deals and tressures on gently used items. All proceeds from the sale will go towards supporting the Rensselaer Falls Fire Department. \n\n\n\nDonation Drop-offs\n\nDonations of lightly used items will be accepted on May 3rd\, 4th\, and 10th from 11:00AM-4:00PM at the Fire Dept. If you need to arrange a different drop-off time\, please reach out to Myra at 315-869-0403.
X-ALT-DESC;FMTTYPE=text/html:<span style="font-size:18px\;"><strong>Rensselaer Falls FD Rummage Sale</strong></span><br />\nThe Rensselaer Falls Volunteer Auxiliary is hosting a Rummage Sale at the Rensselaer Falls Fire Department on May 17th &amp\; 18th from 8:00AM-4:00PM. Find great deals and tressures on gently used items. All proceeds from the sale will go towards supporting the Rensselaer Falls Fire Department.&nbsp\;<br />\n<br />\n<span style="font-size:18px\;">Donation Drop-offs</span><br />\nDonations of lightly used items will be accepted on May 3rd\, 4th\, and 10th from 11:00AM-4:00PM at the Fire Dept. If you need to arrange a different drop-off time\, please reach out to Myra at 315-869-0403.&nbsp\;
LOCATION:Rensselaer Falls Fire Department 424 Rensselaer St.\, Rensselear Falls\, NY 13680
UID:e.2288.20022
SEQUENCE:3
DTSTAMP:20260421T214209Z
URL:http://visitstl-gzcms.preview.gochambermaster.com/events/details/rensselaer-falls-fd-rummage-sale-20022
END:VEVENT

END:VCALENDAR
