BEGIN:VCALENDAR
VERSION:2.0
PRODID:-//ChamberMaster//Event Calendar 2.0//EN
METHOD:PUBLISH
X-PUBLISHED-TTL:P3D
REFRESH-INTERVAL:P3D
CALSCALE:GREGORIAN
BEGIN:VEVENT
DTSTART:20210925T230000Z
DTEND:20210926T030000Z
X-MICROSOFT-CDO-ALLDAYEVENT:FALSE
SUMMARY:Robert J. Freego Post 282 in Potsdam hosting live music
DESCRIPTION:On Saturday\, Sept. 25\, the River Mohawk band will be playing from 7 to 11 p.m.\n\n\n\nAll are welcome.
X-ALT-DESC;FMTTYPE=text/html:<span style="color: rgb(51\, 51\, 51)\; font-family: arial\, helvetica\, clean\, sans-serif\; font-size: 13px\;"><span style="font-size:18px\;">On Saturday\, Sept. 25\, the River Mohawk band will be playing from 7 to 11 p.m.<br />\n<br />\nAll are welcome.</span></span>
LOCATION:The post is located between Canton and Potsdam on Rt. 11.
UID:e.2288.10735
SEQUENCE:3
DTSTAMP:20260421T150340Z
URL:http://visitstl-gzcms.preview.gochambermaster.com/events/details/robert-j-freego-post-282-in-potsdam-hosting-live-music-10735
END:VEVENT

END:VCALENDAR
