BEGIN:VCALENDAR
VERSION:2.0
PRODID:-//ChamberMaster//Event Calendar 2.0//EN
METHOD:PUBLISH
X-PUBLISHED-TTL:P3D
REFRESH-INTERVAL:P3D
CALSCALE:GREGORIAN
BEGIN:VEVENT
DTSTART;VALUE=DATE:20250719
DTEND;VALUE=DATE:20250720
TRANSP:TRANSPARENT
X-MICROSOFT-CDO-ALLDAYEVENT:TRUE
SUMMARY:Rollin on the River Float
DESCRIPTION:2nd Annual Rollin on the River\n\nGrab your favorite floating device for a public "float" down Hart's Falls in Hermon\, NY.
X-ALT-DESC;FMTTYPE=text/html:<span style="font-size:18px\;"><strong>2nd Annual Rollin on the River</strong></span><br />\nGrab your favorite floating device for a public &quot\;float&quot\; down Hart&#39\;s Falls in Hermon\, NY.&nbsp\;
LOCATION:Harts Falls | Hermon\, NY
UID:e.2288.20332
SEQUENCE:3
DTSTAMP:20260421T051140Z
URL:http://visitstl-gzcms.preview.gochambermaster.com/events/details/rollin-on-the-river-float-20332
END:VEVENT

END:VCALENDAR
