BEGIN:VCALENDAR
VERSION:2.0
PRODID:-//ChamberMaster//Event Calendar 2.0//EN
METHOD:PUBLISH
X-PUBLISHED-TTL:P3D
REFRESH-INTERVAL:P3D
CALSCALE:GREGORIAN
BEGIN:VEVENT
DTSTART:20250215T000000Z
DTEND:20250215T010000Z
X-MICROSOFT-CDO-ALLDAYEVENT:FALSE
SUMMARY:Romantic Movie Trivia Night
DESCRIPTION:Romantic Movie Trivia Night\n\nOn Valentine's Day\, join Going to Tahiti Productions\, One Steep at a Time\, and Canton Apples as they host a Romantic Movie Trivia Night in the Canton Apples Ciderhouse!\n\n\n\nWhether you have a special someone\, or plan to spend Valentine's Day with friends\, Romantic Movie trivia night is open to everyone! Settle in to the Canton Apples Cider House\, have some nosh\, and get ready to show off your knowledge of romantic movies through the ages. Come with a team assembled\, or make some friends and create one when you arrive.
X-ALT-DESC;FMTTYPE=text/html:<div><span style="color:#B22222"><span style="font-size:20px"><strong>Romantic Movie Trivia Night</strong></span></span><br />\nOn Valentine&#39\;s Day\, join <em>Going to Tahiti Productions</em>\, <em>One Steep at a Time</em>\, and <em>Canton Apples</em> as they host a Romantic Movie Trivia Night in the Canton Apples Ciderhouse!<br />\n<br />\nWhether you have a special someone\, or plan to spend Valentine&#39\;s Day with friends\, Romantic Movie trivia night is open to everyone!&nbsp\;Settle in to the Canton Apples Cider House\, have some nosh\, and get ready to show off your knowledge of romantic movies through the ages. Come with a team assembled\, or make some friends and create one when you arrive.&nbsp\;</div>\n
LOCATION:Canton Apples Ciderhouse 339 State Highway 310 Canton\, NY 13617
UID:e.2288.19067
SEQUENCE:3
DTSTAMP:20260422T121135Z
URL:http://visitstl-gzcms.preview.gochambermaster.com/events/details/romantic-movie-trivia-night-19067
END:VEVENT

END:VCALENDAR
