BEGIN:VCALENDAR
VERSION:2.0
PRODID:-//ChamberMaster//Event Calendar 2.0//EN
METHOD:PUBLISH
X-PUBLISHED-TTL:P3D
REFRESH-INTERVAL:P3D
CALSCALE:GREGORIAN
BEGIN:VEVENT
DTSTART;VALUE=DATE:20250501
DTEND;VALUE=DATE:20250504
TRANSP:TRANSPARENT
X-MICROSOFT-CDO-ALLDAYEVENT:TRUE
SUMMARY:Rummage Sale
DESCRIPTION:Rummage Sale\n\nTHREE DAY EVENT\n\n\n\nMay 1: 4:00PM - 7:00PM\n\nMay 2: 9:00AM - 4:00PM\n\nMay 3: 9:00AM - 1:00PM
X-ALT-DESC;FMTTYPE=text/html:<span style="font-size:18px\;"><strong>Rummage Sale</strong></span><br />\nTHREE DAY EVENT<br />\n<br />\nMay 1: 4:00PM - 7:00PM<br />\nMay 2: 9:00AM - 4:00PM<br />\nMay 3: 9:00AM - 1:00PM
LOCATION:Canton United Methodist Church 41 Court Street Canton\, NY 13617
UID:e.2288.20142
SEQUENCE:3
DTSTAMP:20260421T074529Z
URL:http://visitstl-gzcms.preview.gochambermaster.com/events/details/rummage-sale-05-01-2025-20142
END:VEVENT

END:VCALENDAR
