BEGIN:VCALENDAR
VERSION:2.0
PRODID:-//ChamberMaster//Event Calendar 2.0//EN
METHOD:PUBLISH
X-PUBLISHED-TTL:P3D
REFRESH-INTERVAL:P3D
CALSCALE:GREGORIAN
BEGIN:VEVENT
DTSTART:20190810T140000Z
DTEND:20190810T200000Z
X-MICROSOFT-CDO-ALLDAYEVENT:FALSE
SUMMARY:Scottish Festival
DESCRIPTION:Hammond Historical Museum is hosting its 2nd Scottish festival with Tughill Heavies Highland game demos\, Steel City Rovers\, a Celitibilly band\, local music groups\, Robert Burns poems\, blacksmithing\, spinning\, kids' activities\, vendors\, food and spirits. Come & enjoy the day with us!
X-ALT-DESC;FMTTYPE=text/html:Hammond Historical Museum is hosting its 2nd Scottish festival with Tughill Heavies Highland game demos\, Steel City Rovers\, a Celitibilly band\, local music groups\, Robert Burns poems\, blacksmithing\, spinning\, kids&#39\; activities\, vendors\, food and spirits. Come &amp\; enjoy the day with us!
LOCATION:1A N. Main St. (St Hwy 37) Hammond\, NY 13646
UID:e.2288.8171
SEQUENCE:3
DTSTAMP:20260425T173629Z
URL:http://visitstl-gzcms.preview.gochambermaster.com/events/details/scottish-festival-8171
END:VEVENT

END:VCALENDAR
