BEGIN:VCALENDAR
VERSION:2.0
PRODID:-//ChamberMaster//Event Calendar 2.0//EN
METHOD:PUBLISH
X-PUBLISHED-TTL:P3D
REFRESH-INTERVAL:P3D
CALSCALE:GREGORIAN
BEGIN:VEVENT
DTSTART:20190516T234500Z
DTEND:20190516T234500Z
X-MICROSOFT-CDO-ALLDAYEVENT:FALSE
SUMMARY:Simon & Garfunkel
DESCRIPTION:A celebration of the historic\, iconic concert of in 1981... recreated using set lists with favorites like Mrs. Robinson\, Scarborough Fair\, Slip Slidin' Away\, Kodachrome\, Bridge Over Troubled Water\, The Sound of Silence and many more.
X-ALT-DESC;FMTTYPE=text/html:A celebration of the historic\, iconic concert of in 1981... recreated using set lists with favorites like<em> Mrs. Robinson\, Scarborough Fair\, Slip Slidin&#39\; Away\, Kodachrome\, Bridge Over Troubled Water\, The Sound of Silence</em> and many more.
LOCATION:1100 State Street Ogdensburg\, NY 13669
UID:e.2288.7523
SEQUENCE:3
DTSTAMP:20260426T000807Z
URL:http://visitstl-gzcms.preview.gochambermaster.com/events/details/simon-garfunkel-7523
END:VEVENT

END:VCALENDAR
