BEGIN:VCALENDAR
VERSION:2.0
PRODID:-//ChamberMaster//Event Calendar 2.0//EN
METHOD:PUBLISH
X-PUBLISHED-TTL:P3D
REFRESH-INTERVAL:P3D
CALSCALE:GREGORIAN
BEGIN:VEVENT
DTSTART:20250809T180000Z
DTEND:20250809T200000Z
X-MICROSOFT-CDO-ALLDAYEVENT:FALSE
SUMMARY:Skip Starr and the Renditions Community Concert
DESCRIPTION:Skip Starr and the Renditions Community Concert\n\nEnjoying live 50's and 60's rock and roll music. Refreshments will be available. Presented by the Russell and Hermon United Methodist churches.
X-ALT-DESC;FMTTYPE=text/html:<p><span style="font-size:18px\;"><strong>Skip Starr and the Renditions Community Concert</strong></span><br />\nEnjoying live 50&#39\;s and 60&#39\;s rock and roll music. Refreshments will be available. Presented by the Russell and Hermon United Methodist churches.<br />\n&nbsp\;</p>\n
LOCATION:Russell Pavilion 24 Pestle Street | Russell\, NY
UID:e.2288.20501
SEQUENCE:3
DTSTAMP:20260420T224839Z
URL:http://visitstl-gzcms.preview.gochambermaster.com/events/details/skip-starr-and-the-renditions-community-concert-20501
END:VEVENT

END:VCALENDAR
