BEGIN:VCALENDAR
VERSION:2.0
PRODID:-//ChamberMaster//Event Calendar 2.0//EN
METHOD:PUBLISH
X-PUBLISHED-TTL:P3D
REFRESH-INTERVAL:P3D
CALSCALE:GREGORIAN
BEGIN:VEVENT
DTSTART:20250621T220000Z
DTEND:20250622T030000Z
X-MICROSOFT-CDO-ALLDAYEVENT:FALSE
SUMMARY:SLC Arts Annual Gala - Eras In Motion
DESCRIPTION:SLC Arts 2025 Annual Gala - Eras In Motion\n\nJoin the St. Lawrence County Arts Council on Saturday\, June 21st at the "Eras In Motion" Gala\, a benefit supporting the Arts in the North Country.\n\n\n\nFrom past to present\, art inspires us all! Support the Arts in the North Country at this one-of-a-kind fundraiser celebrating local artists in the film and performing arts field!\n\n\n\nEnjoy an unforgettable evening filled with captivating performances\, exquisite dining\, and a vibrant showcase of artistic talent\, all while supporting the arts in the North Country.\n\n\n\nHighlights of the Evening\n\n	Arts Recognition Award and volunteer appreciation awards   Honoring outstanding contributions to the arts\n	Delicious Cuisine by Eben Holden at St. Lawrence University\n	Live Performances by The Potsdam Dance Company\n	Silent Auction   Bid on exclusive art and experiences
X-ALT-DESC;FMTTYPE=text/html:<span style="color:#004f71"><strong><span style="font-size:18px">SLC Arts 2025 Annual Gala - Eras In Motion</span></strong></span><br />\nJoin the St. Lawrence County Arts Council on Saturday\, June 21st at the &ldquo\;Eras In Motion&rdquo\; Gala\, a benefit supporting the Arts in the North Country.<br />\n<br />\nFrom past to present\, art inspires us all! Support the Arts in the North Country at this one-of-a-kind fundraiser celebrating local artists in the film and performing arts field!<br />\n<br />\nEnjoy an unforgettable evening filled with captivating performances\, exquisite dining\, and a vibrant showcase of artistic talent\, all while supporting the arts in the North Country.<br />\n<br />\n<span style="font-size:18px">Highlights of the Evening</span>\n<ul>\n	<li>Arts Recognition Award and&nbsp\;volunteer appreciation awards &ndash\; Honoring outstanding contributions to the arts</li>\n	<li>Delicious Cuisine by Eben Holden at St. Lawrence University</li>\n	<li>Live Performances by The Potsdam Dance Company</li>\n	<li>Silent Auction &ndash\; Bid on exclusive art and experiences</li>\n</ul>\n
LOCATION:St Lawrence University | Eben Holden 23 Romoda Dr\, Canton\, NY 13617 View Campus Map
UID:e.2288.20056
SEQUENCE:3
DTSTAMP:20260421T015743Z
URL:http://visitstl-gzcms.preview.gochambermaster.com/events/details/slc-arts-annual-gala-eras-in-motion-20056
END:VEVENT

END:VCALENDAR
