BEGIN:VCALENDAR
VERSION:2.0
PRODID:-//ChamberMaster//Event Calendar 2.0//EN
METHOD:PUBLISH
X-PUBLISHED-TTL:P3D
REFRESH-INTERVAL:P3D
CALSCALE:GREGORIAN
BEGIN:VEVENT
DTSTART:20241206T210000Z
DTEND:20241207T010000Z
X-MICROSOFT-CDO-ALLDAYEVENT:FALSE
SUMMARY:SLCCHC Annual Holiday Open House
DESCRIPTION:SLCCHC Annual Holiday Open House\n\nThe St. Lawrence County Center for History & Culture invites you to their annual Holiday Open House at the Silas Wright Historic House & Museum on Friday\, December 6 from 4:00 PM to 8:00 PM. Enjoy good food with wonderful company and see the museum decked out for the holidays!\n\n\n\nHighlights:\n\n	Refreshments provided\n	Self-guided museum tours\n	Live music throughout the evening and a holiday music medley between live performances\n	Crafting stations around the museum with take-home crafts\n	Holiday Artwork Raffle drawing at 6:30 PM. You do not need to be present to win.\n\nHoliday Artwork Raffle\n\n"Something in Red" Giclee Print by John Morrow\n\n	Dimensions: 16" x 24"\n	Custom framing included\n\nTicket Pricing:\n\n\n	$5.00 each\n	5 tickets for $20.00\n	10 tickets for $35.00\n\n\nTickets may be purchased online or in person at the St. Lawrence Center for History & Culture Museum Gift Shop at 3 E. Main Street in Canton.\n\nTicket sheets for purchase will also be sent with annual renewal letters to current members.
X-ALT-DESC;FMTTYPE=text/html:<strong><span style="font-size:20px\;">SLCCHC Annual Holiday Open House</span></strong><br />\nThe St. Lawrence County Center for History &amp\; Culture invites you to their annual&nbsp\;Holiday Open House at the Silas Wright Historic House &amp\; Museum on Friday\, December 6 from 4:00 PM to 8:00 PM. Enjoy good food with wonderful company and see the museum decked out for the holidays!<br />\n<br />\n<span style="font-size:18px\;">Highlights:</span>\n<ul>\n	<li>Refreshments provided</li>\n	<li>Self-guided museum tours</li>\n	<li>Live music throughout the evening and a holiday music medley between live performances</li>\n	<li>Crafting stations around the museum with take-home crafts</li>\n	<li>Holiday Artwork Raffle drawing at 6:30 PM. You do not need to be present to win.</li>\n</ul>\n<span style="font-size:18px\;">Holiday Artwork Raffle</span><br />\n&ldquo\;Something in Red&rdquo\; Giclee Print by John Morrow\n<ul>\n	<li>Dimensions: 16&rdquo\; x 24&rdquo\;</li>\n	<li>Custom framing included</li>\n</ul>\nTicket Pricing:\n\n<ul>\n	<li>$5.00 each</li>\n	<li>5 tickets for $20.00</li>\n	<li>10 tickets for $35.00</li>\n</ul>\n\n<p>Tickets may be purchased&nbsp\;<a href="https://slcchc.square.site/product/2024-holiday-artwork-raffle-tickets/456?cp=true&amp\;sa=true&amp\;sbp=false&amp\;q=false" style="color: rgb(51\, 51\, 51)\; box-sizing: border-box\; margin: 0px\; padding: 0px\; border: 0px\; outline: 0px\; font-variant: inherit\; font-stretch: inherit\; line-height: inherit\; font-optical-sizing: inherit\; font-size-adjust: inherit\; font-kerning: inherit\; font-feature-settings: inherit\; font-variation-settings: inherit\; vertical-align: baseline\; font-family: inherit\; font-style: inherit\; font-weight: inherit\; background-color: rgba(0\, 0\, 0\, 0)\; transition: 0.3s\; cursor: pointer\; text-underline-offset: 3px\;" target="_blank"><span style="font-family: inherit\;">online</span></a>&nbsp\;or in person at the St. Lawrence Center for History &amp\; Culture&nbsp\;Museum Gift Shop at 3 E. Main Street in Canton.</p>\n\n<p>Ticket sheets for purchase will also be sent with annual renewal letters to current members.</p>\n
LOCATION:St. Lawrence Center for History & Culture 3 East Main St. Canton\, NY 13617
UID:e.2288.18933
SEQUENCE:3
DTSTAMP:20260422T050123Z
URL:http://visitstl-gzcms.preview.gochambermaster.com/events/details/slcchc-annual-holiday-open-house-18933
END:VEVENT

END:VCALENDAR
