BEGIN:VCALENDAR
VERSION:2.0
PRODID:-//ChamberMaster//Event Calendar 2.0//EN
METHOD:PUBLISH
X-PUBLISHED-TTL:P3D
REFRESH-INTERVAL:P3D
CALSCALE:GREGORIAN
BEGIN:VEVENT
DTSTART:20230311T201500Z
DTEND:20230312T010000Z
X-MICROSOFT-CDO-ALLDAYEVENT:FALSE
SUMMARY:Sleigh Rides at Lake Clear Lodge & Retreat
DESCRIPTION:We have lots of sleigh ride availability over the next 4 scheduled dates. We may extend our sleigh ride season if we get special requests to continue the season. The speakeasy dinner experience is also available.\n\n\n\nReservations are required and can be made online at www.lakeclearlodge.com/experiences/sleigh-rides or via calling or texting Lauren at Lucky Clover Sleigh rides at 518 281 7724.
X-ALT-DESC;FMTTYPE=text/html:We have lots of sleigh ride availability over the next 4 scheduled dates. We may extend our sleigh ride season if we get special requests to continue the season. The speakeasy dinner experience is also available.<br />\n<br />\nReservations are required and can be made online at<a href="https://www.lakeclearlodge.com/experiences/sleigh-rides"> www.lakeclearlodge.com/experiences/sleigh-rides</a> or via calling or texting Lauren at Lucky Clover Sleigh rides at 518 281 7724.
LOCATION:Sleigh rides are at the Lake Clear Lodge\; just 15 minutes from Saranac Lake\, 25 minutes from Tupper Lake\, and about 30 minutes from Lake Placid.
UID:e.2288.11516
SEQUENCE:3
DTSTAMP:20260421T190333Z
URL:http://visitstl-gzcms.preview.gochambermaster.com/events/details/sleigh-rides-03-11-2023-11516
END:VEVENT

END:VCALENDAR
