BEGIN:VCALENDAR
VERSION:2.0
PRODID:-//ChamberMaster//Event Calendar 2.0//EN
METHOD:PUBLISH
X-PUBLISHED-TTL:P3D
REFRESH-INTERVAL:P3D
CALSCALE:GREGORIAN
BEGIN:VEVENT
DTSTART:20240608T130000Z
DTEND:20240609T210000Z
X-MICROSOFT-CDO-ALLDAYEVENT:FALSE
SUMMARY:SLPEM Old Time Spring Exhibition & Tractor Show
DESCRIPTION:SLPEM OLD TIME SPRING EXHIBITION AND TRACTOR SHOW\n\n\n\nThe St Lawrence Power and Equipment Museum will hold its Annual Old Time Spring Exhibition and Tractor Show. There will be fun for all ages! \n\n\n\nTractor Displays\, Old Equipment Displays\, All buildings on the grounds open to the public\, Kids Pedal Tractor Races\, Kids Pedal Tractor Pulls\, Ladies Skillet Toss\, Tractor Parade\, Blacksmith demonstrations\, Civil War Reenactors\, Pony Rides and Face Painting\, Vendors\, Horse Pulls\, and so much more!\n\n\n\nFor a full scheduling of events check out the SLPEM website HERE or Facebook Page HERE for updates!
X-ALT-DESC;FMTTYPE=text/html:<p><span style="font-size:20px\;"><strong>SLPEM OLD TIME SPRING EXHIBITION AND TRACTOR SHOW</strong></span><br />\n<br />\nThe St Lawrence Power and Equipment Museum will hold its Annual Old Time Spring Exhibition and Tractor Show. There will be fun for all ages!&nbsp\;<br />\n<br />\nTractor Displays\, Old Equipment Displays\, All buildings on the grounds open to the public\, Kids Pedal Tractor Races\, Kids Pedal Tractor Pulls\, Ladies Skillet Toss\, Tractor Parade\, Blacksmith demonstrations\, Civil War Reenactors\, Pony Rides and Face Painting\, Vendors\, Horse Pulls\, and so much more!<br />\n<br />\nFor a full scheduling of events check out the SLPEM website <a href="https://slpowermuseum.com/" target="_blank">HERE</a> or Facebook Page <a href="https://www.facebook.com/slpowermuseum" target="_blank">HERE</a> for updates!</p>\n
LOCATION:St. Lawrence Power and Equipment Museum 1755 NY-345 Madrid. NY 13660
UID:e.2288.17585
SEQUENCE:3
DTSTAMP:20260422T053603Z
URL:http://visitstl-gzcms.preview.gochambermaster.com/events/details/slpem-old-time-spring-exhibition-tractor-show-17585
END:VEVENT

END:VCALENDAR
