BEGIN:VCALENDAR
VERSION:2.0
PRODID:-//ChamberMaster//Event Calendar 2.0//EN
METHOD:PUBLISH
X-PUBLISHED-TTL:P3D
REFRESH-INTERVAL:P3D
CALSCALE:GREGORIAN
BEGIN:VEVENT
DTSTART:20251116T190000Z
DTEND:20251116T200000Z
X-MICROSOFT-CDO-ALLDAYEVENT:FALSE
SUMMARY:SLU Laurentian Singers Perform at WHA Harmony & History Concert Series
DESCRIPTION:SLU Laurentian Singers Perform at WHA Harmony & History Concert Series\n\n\n\nThe Waddington Historical Association's 2025 Harmony & History Concert Series concludes on Sunday\, November 16th with a performance by the ST. LAWRENCE UNIVERSITY LAURENTIAN SINGERS beginning at 2:00 PM.\n\n\n\nThe group\, under the direction of Jonathan Burnett\, will fill the Waddington Cultural Center (formerly St. Paul's) on Lincoln Avenue with sounds from their amazing repertoire drawn from classical traditions as well as world and popular pieces. The concert is free. Donations are accepted for future concerts.
X-ALT-DESC;FMTTYPE=text/html:<strong>SLU Laurentian Singers Perform at WHA Harmony &amp\; History Concert Series</strong><br />\n<br />\nThe Waddington Historical Association&#39\;s 2025 Harmony &amp\; History Concert Series concludes on Sunday\, November 16th with a performance by the ST. LAWRENCE UNIVERSITY LAURENTIAN SINGERS beginning at 2:00 PM.<br />\n<br />\nThe group\, under the direction of Jonathan Burnett\, will fill the Waddington Cultural Center (formerly St. Paul&rsquo\;s) on Lincoln Avenue with sounds from their amazing repertoire drawn from classical traditions as well as world and popular pieces. The concert is free. Donations are accepted for future concerts.
LOCATION:Waddington Cultural Center (Formerly St. Paul's Church) 129 Lincoln Avenue | Waddington\, NY
UID:e.2288.20648
SEQUENCE:3
DTSTAMP:20260420T193831Z
URL:http://visitstl-gzcms.preview.gochambermaster.com/events/details/slu-laurentian-singers-perform-at-wha-harmony-history-concert-series-20648
END:VEVENT

END:VCALENDAR
