BEGIN:VCALENDAR
VERSION:2.0
PRODID:-//ChamberMaster//Event Calendar 2.0//EN
METHOD:PUBLISH
X-PUBLISHED-TTL:P3D
REFRESH-INTERVAL:P3D
CALSCALE:GREGORIAN
BEGIN:VEVENT
DTSTART:20251010T000000Z
DTEND:20251010T010000Z
X-MICROSOFT-CDO-ALLDAYEVENT:FALSE
SUMMARY:SLU Writers Series presents Stephanie Elizondo Griest\, Robin Hemley\, Trudy Lewis\, and Okey Ndibe
DESCRIPTION:St. Lawrence University Writers Series presents Stephanie Elizondo Griest\, Robin Hemley\, Trudy Lewis\, and Okey Ndibe\n\n\n\nThe 2025-26 St. Lawrence University Writers Series is celebrating the 25th Anniversary of the Viebranz Visiting Professor of Creative Writing. Since 1999\, this distinguished position has brought nationally recognized writers the campus to inspire\, teach\, and connect with our literary community.\n\n\n\nJoin us on Thursday\, October 9\, 2025 as we welcome back 4 authors for 2 events: Stephanie Elizondo Griest\, Robin Hemley\, Trudy Lewis\, and Okey Ndibe\n\n\n\nDetailed biographies and event information can be found here. \n\n\n\nFor over 50 years the Writers Series program at St. Lawrence University has welcomed all varieties of authors including Pulitzer Prize winners.
X-ALT-DESC;FMTTYPE=text/html:<span style="font-size:18px\;"><strong>St. Lawrence University Writers Series presents Stephanie Elizondo Griest\, Robin Hemley\, Trudy Lewis\, and Okey Ndibe</strong></span><br />\n<br />\nThe 2025-26 St. Lawrence University Writers Series is celebrating the 25th Anniversary of the Viebranz Visiting Professor of Creative Writing. Since 1999\, this distinguished position has brought nationally recognized writers the campus to inspire\, teach\, and connect with our literary community.<br />\n<br />\nJoin us on Thursday\, October 9\, 2025 as we welcome back 4 authors for 2 events: Stephanie Elizondo Griest\, Robin Hemley\, Trudy Lewis\, and Okey Ndibe<br />\n<br />\nDetailed biographies and event information can be found <a href="https://www.stlawu.edu/events/writers-series-presents-stephanie-elizondo-griest-robin-hemley-trudy-lewis-and-okey-ndibe" target="_blank">here</a>.&nbsp\;<br />\n<br />\n<em>For over 50 years the Writers Series program at St. Lawrence University has welcomed all varieties of authors including Pulitzer Prize winners.</em>
LOCATION:St. Lawrence University Sykes Common Room 85 Park Street | Canton\, NY 13617
UID:e.2288.20336
SEQUENCE:3
DTSTAMP:20260420T165453Z
URL:http://visitstl-gzcms.preview.gochambermaster.com/events/details/slu-writers-series-presents-stephanie-elizondo-griest-robin-hemley-trudy-lewis-and-okey-ndibe-20336
END:VEVENT

END:VCALENDAR
