BEGIN:VCALENDAR
VERSION:2.0
PRODID:-//ChamberMaster//Event Calendar 2.0//EN
METHOD:PUBLISH
X-PUBLISHED-TTL:P3D
REFRESH-INTERVAL:P3D
CALSCALE:GREGORIAN
BEGIN:VEVENT
DTSTART:20220618T220000Z
DTEND:20220619T000000Z
X-MICROSOFT-CDO-ALLDAYEVENT:FALSE
SUMMARY:Solstice Party
DESCRIPTION:After a 2 year hiatus due to COVID\, we are re-igniting our spectacular summer solstice event. This is a fun family event with games for all ages. Activities will include pie toss\, balloon pop prizes\, scavenger hunts\, a cash bar\, and more. This year we are excited to add a fortune teller to our list of activities! There will be music provided by NCPR dj Sarah Scafidi-McGuire. We'll also have food trucks\, and as always\, the beauty of the park and river.
X-ALT-DESC;FMTTYPE=text/html:After a 2 year hiatus due to COVID\, we are re-igniting our spectacular summer solstice event. This is a fun family event with games for all ages. Activities will include pie toss\, balloon pop prizes\, scavenger hunts\, a cash bar\, and more. This year we are excited to add a fortune teller to our list of activities! There will be music provided by NCPR dj Sarah Scafidi-McGuire. We&#39\;ll also have food trucks\, and as always\, the beauty of the park and river.
LOCATION:Heritage Park
UID:e.2288.11064
SEQUENCE:3
DTSTAMP:20260420T185001Z
URL:http://visitstl-gzcms.preview.gochambermaster.com/events/details/solstice-party-11064
END:VEVENT

END:VCALENDAR
