BEGIN:VCALENDAR
VERSION:2.0
PRODID:-//ChamberMaster//Event Calendar 2.0//EN
METHOD:PUBLISH
X-PUBLISHED-TTL:P3D
REFRESH-INTERVAL:P3D
CALSCALE:GREGORIAN
BEGIN:VEVENT
DTSTART:20211014T220000Z
DTEND:20211015T000000Z
X-MICROSOFT-CDO-ALLDAYEVENT:FALSE
SUMMARY:Songs at the Stable
DESCRIPTION:A new live concert series held through the months of October and November\, including 10 different bands! Come on out to Windy Point Stables in Potsdam\, NY to hear live music presented by SLC Arts! Catering provided by Rapidz and Windy Point's cash bar will be available as well for your convenience! The Raquettes will be performing from 6-8pm!
X-ALT-DESC;FMTTYPE=text/html:<span style="font-family:arial\;"><span style="font-size: 16px\; caret-color: rgb(102\, 102\, 102)\; color: rgb(102\, 102\, 102)\;">A new live concert series held through the months of October and November\, including 10 different bands! Come on out to Windy Point Stables in Potsdam\, NY to hear live music presented by SLC Arts! Catering provided by Rapidz and Windy Point&rsquo\;s cash bar will be available as well for your convenience! The Raquettes will be performing from 6-8pm!</span></span>
LOCATION:The Stables at Windy Point 215 Outer Sissonville Rd Potsdam\, New York 13676
UID:e.2288.10807
SEQUENCE:3
DTSTAMP:20260421T181554Z
URL:http://visitstl-gzcms.preview.gochambermaster.com/events/details/songs-at-the-stable-10807
END:VEVENT

END:VCALENDAR
