BEGIN:VCALENDAR
VERSION:2.0
PRODID:-//ChamberMaster//Event Calendar 2.0//EN
METHOD:PUBLISH
X-PUBLISHED-TTL:P3D
REFRESH-INTERVAL:P3D
CALSCALE:GREGORIAN
BEGIN:VEVENT
DTSTART:20211113T230000Z
DTEND:20211114T030000Z
X-MICROSOFT-CDO-ALLDAYEVENT:FALSE
SUMMARY:Songs at the Stables featuring “Eerie Shores” and “Fernway”
DESCRIPTION:A new live concert series held through the months of October and November\, including 10 different bands! Come on out to Windy Point Stables in Potsdam\, NY to hear live music presented by SLC Arts featuring bands from Buffalo\,NY! Catering by Gideon's Galley and Foster the Plant Cafe\, and Windy Point's cash bar will be available as well for your convenience! "Eerie Shores" will be performing from 6-7:30pm and "Fernway" will be performing from 8-10pm!
X-ALT-DESC;FMTTYPE=text/html:<span style="color: rgb(102\, 102\, 102)\; font-family: Georgia\, Georgia\, &quot\;Times New Roman&quot\;\, serif\; font-size: 16px\; background-color: rgb(255\, 255\, 255)\;">A new live concert series held through the months of October and November\, including 10 different bands! Come on out to Windy Point Stables in Potsdam\, NY to hear live music presented by SLC Arts featuring bands from Buffalo\,NY! Catering by Gideon&rsquo\;s Galley and Foster the Plant Cafe\, and Windy Point&rsquo\;s cash bar will be available as well for your convenience! &ldquo\;Eerie Shores&rdquo\; will be performing from 6-7:30pm and &ldquo\;Fernway&rdquo\; will be performing from 8-10pm!</span>
LOCATION:The Stables at Windy Point 215 Outer Sissonville Rd Potsdam\, New York 13676
UID:e.2288.10814
SEQUENCE:3
DTSTAMP:20260421T214358Z
URL:http://visitstl-gzcms.preview.gochambermaster.com/events/details/songs-at-the-stables-featuring-eerie-shores-and-fernway-10814
END:VEVENT

END:VCALENDAR
