BEGIN:VCALENDAR
VERSION:2.0
PRODID:-//ChamberMaster//Event Calendar 2.0//EN
METHOD:PUBLISH
X-PUBLISHED-TTL:P3D
REFRESH-INTERVAL:P3D
CALSCALE:GREGORIAN
BEGIN:VEVENT
DTSTART:20240525T140000Z
DTEND:20240525T190000Z
X-MICROSOFT-CDO-ALLDAYEVENT:FALSE
SUMMARY:Spring Arts Festival
DESCRIPTION:SPRING ARTS FESTIVAL\n\n4TH ANNUAL\n\n\n\nExperience a vibrant showcase featuring over 14 talented local artisans\, offering a diverse array of presentations and unique shopping opportunities.\n\n\n\nExplore the Gateway Museum's latest exhibits\, including "Morristown: History of Stone" and "Gifts of Nature" by MCS Students\, set amidst the scenic preserve paths.\n\n\n\nDelight in activities suitable for all ages\, accompanied by live music courtesy of the Non Committals. Treat yourself to delicious offerings from City Dawgz\, and don't miss the chance to participate in the silent auction\, featuring exciting experiences and items up for bid!
X-ALT-DESC;FMTTYPE=text/html:<span style="font-size:20px\;"><strong>SPRING ARTS FESTIVAL</strong></span><br />\n<span style="font-size:20px\;">4TH ANNUAL</span><br />\n<br />\nExperience a vibrant showcase featuring over 14 talented local artisans\, offering a diverse array of presentations and unique shopping opportunities.<br />\n<br />\nExplore the Gateway Museum&#39\;s latest exhibits\, including &quot\;Morristown: History of Stone&quot\; and &quot\;Gifts of Nature&quot\; by MCS Students\, set amidst the scenic preserve paths.<br />\n<br />\nDelight in activities suitable for all ages\, accompanied by live music courtesy of the Non Committals. Treat yourself to delicious offerings from City Dawgz\, and don&#39\;t miss the chance to participate in the silent auction\, featuring exciting experiences and items up for bid!
LOCATION:Red Barn Preserve 518 River Road\, Morristown NY 13664
UID:e.2288.17629
SEQUENCE:3
DTSTAMP:20260422T053606Z
URL:http://visitstl-gzcms.preview.gochambermaster.com/events/details/spring-arts-festival-17629
END:VEVENT

END:VCALENDAR
