BEGIN:VCALENDAR
VERSION:2.0
PRODID:-//ChamberMaster//Event Calendar 2.0//EN
METHOD:PUBLISH
X-PUBLISHED-TTL:P3D
REFRESH-INTERVAL:P3D
CALSCALE:GREGORIAN
BEGIN:VEVENT
DTSTART:20250412T160000Z
DTEND:20250412T180000Z
X-MICROSOFT-CDO-ALLDAYEVENT:FALSE
SUMMARY:Spring Fling/Easter Egg Hunt
DESCRIPTION:Spring Fling/Easter Egg Hunt\n\nA Spring Fling/Easter Egg Hunt is scheduled for April 12th from 12-2pm\, sponsored by Massena First UMC. Enjoy holiday\, crafts\, games and an easter egg hunt.
X-ALT-DESC;FMTTYPE=text/html:<strong>Spring Fling/Easter Egg Hunt</strong><br />\nA&nbsp\;Spring Fling/Easter Egg Hunt is scheduled for April 12th from 12-2pm\, sponsored by Massena First UMC. Enjoy holiday\, crafts\, games and an easter egg hunt.
LOCATION:Massena First United Methodist Church 189 Main Street\, Massena\, NY 13662
UID:e.2288.19006
SEQUENCE:3
DTSTAMP:20260421T145101Z
URL:http://visitstl-gzcms.preview.gochambermaster.com/events/details/spring-fling-easter-egg-hunt-19006
END:VEVENT

END:VCALENDAR
