BEGIN:VCALENDAR
VERSION:2.0
PRODID:-//ChamberMaster//Event Calendar 2.0//EN
METHOD:PUBLISH
X-PUBLISHED-TTL:P3D
REFRESH-INTERVAL:P3D
CALSCALE:GREGORIAN
BEGIN:VEVENT
DTSTART:20250419T223000Z
DTEND:20250420T010000Z
X-MICROSOFT-CDO-ALLDAYEVENT:FALSE
SUMMARY:Spring Fling Trivia
DESCRIPTION:The Canton Rotary Club is hosting a Spring Fling Trivia night at the Best Western University Inn On April 19th. Registration begins at 6:30 pm and trivia will take place from 7:00 pm until 9:00 pm. Teams must have between 3-6 players and entry is $25 per person. There are prizes for 1st and 2nd place as well as a door prize and a 50/50 raffle! Cash bar\, light snacks\, and a limited menu will be available.
X-ALT-DESC;FMTTYPE=text/html:The Canton Rotary Club is hosting a Spring Fling Trivia night at the Best Western University Inn On April 19th. Registration begins at 6:30 pm and trivia will take place from 7:00 pm until 9:00 pm. Teams must have between 3-6 players and entry is $25 per person. There are prizes for 1st and 2nd place as well as a door prize and a 50/50 raffle! Cash bar\, light snacks\, and a limited menu will be available.
LOCATION:
UID:e.2288.20145
SEQUENCE:3
DTSTAMP:20260421T155230Z
URL:http://visitstl-gzcms.preview.gochambermaster.com/events/details/spring-fling-trivia-20145
END:VEVENT

END:VCALENDAR
