BEGIN:VCALENDAR
VERSION:2.0
PRODID:-//ChamberMaster//Event Calendar 2.0//EN
METHOD:PUBLISH
X-PUBLISHED-TTL:P3D
REFRESH-INTERVAL:P3D
CALSCALE:GREGORIAN
BEGIN:VEVENT
DTSTART:20220430T140000Z
DTEND:20220430T200000Z
X-MICROSOFT-CDO-ALLDAYEVENT:FALSE
SUMMARY:Spring Vendor Event
DESCRIPTION:Support local small businesses at a Spring Vendor Event.
X-ALT-DESC;FMTTYPE=text/html:Support local small businesses at a Spring Vendor Event.
LOCATION:Russell Fire Hall 5 Pestle Street Road Russell\, NY 13684
UID:e.2288.10934
SEQUENCE:3
DTSTAMP:20260420T214238Z
URL:http://visitstl-gzcms.preview.gochambermaster.com/events/details/spring-vendor-event-10934
END:VEVENT

END:VCALENDAR
