BEGIN:VCALENDAR
VERSION:2.0
PRODID:-//ChamberMaster//Event Calendar 2.0//EN
METHOD:PUBLISH
X-PUBLISHED-TTL:P3D
REFRESH-INTERVAL:P3D
CALSCALE:GREGORIAN
BEGIN:VEVENT
DTSTART;VALUE=DATE:20240408
DTEND;VALUE=DATE:20240409
TRANSP:TRANSPARENT
X-MICROSOFT-CDO-ALLDAYEVENT:TRUE
SUMMARY:St. Lawrence County\, NY Total Solar Eclipse (Totality County-Wide)
DESCRIPTION:2024 TOTAL SOLAR ECLIPSE\n\nA ONCE IN A LIFETIME COUNTY-WIDE EVENT!\n\nOn Monday\, April 8\, 2024\, a total solar eclipse\, called the "Great Northern American Eclipse" will trace a narrow path of totality across 13 states\, Mexico\, and Canada. To experience the total phase of the 2024 eclipse\, you must be located within the narrow path of totality and St. Lawrence County has a front row seat being totally within the lines of totality!\n\n\n\nVarious events are currently being planned throughout the county. For viewing times and UP-TO-DATE DETAILS - visit St. Lawrence County's 2024 Totality Website HERE!\n\n\n\nThe St. Lawrence County Chamber of Commerce is encourages events to be added to the County Public Events Calendar -  so all Total Eclipse related events are all in one location for residents and anticipated visitors to find all the information in one consolidated location. Please help us with promoting all the exciting happenings for the solar eclipse in St. Lawrence County HERE!
X-ALT-DESC;FMTTYPE=text/html:<span style="color:#004f71\;"><span style="font-size:20px\;"><strong>2024 TOTAL SOLAR ECLIPSE</strong><br />\nA ONCE IN A LIFETIME COUNTY-WIDE EVENT!</span></span><br />\nOn Monday\, April 8\, 2024\,&nbsp\;a total solar eclipse\, called the&nbsp\;&ldquo\;Great Northern American Eclipse&rdquo\;&nbsp\;will trace a narrow path of totality across 13 states\, Mexico\, and Canada. To experience the total phase of the 2024 eclipse\, you must be located within the narrow path of totality and&nbsp\;St. Lawrence County has a front row seat being totally within the lines of totality!<br />\n<br />\nVarious events are currently being planned throughout the county. For viewing times and UP-TO-DATE DETAILS - visit <strong><a href="https://www.visitstlc.com/totality-2024/" target="_blank">St. Lawrence County&#39\;s 2024 Totality Website HERE</a></strong>!<br />\n<br />\nThe St. Lawrence County Chamber of Commerce is encourages events to be added to the County Public Events Calendar -&nbsp\; so all Total Eclipse related events are all in one location for residents and anticipated visitors to find all the information in one consolidated location. Please help us with promoting all the exciting happenings for the solar eclipse in St. Lawrence County <strong><a href="https://business.visitstlc.com/events/public-submission" target="_blank">HERE</a></strong>!
LOCATION:From corner to corner throughout St. Lawrence County!
UID:e.2288.16406
SEQUENCE:3
DTSTAMP:20260422T000744Z
URL:http://visitstl-gzcms.preview.gochambermaster.com/events/details/st-lawrence-county-ny-total-solar-eclipse-totality-county-wide-16406
END:VEVENT

END:VCALENDAR
