BEGIN:VCALENDAR
VERSION:2.0
PRODID:-//ChamberMaster//Event Calendar 2.0//EN
METHOD:PUBLISH
X-PUBLISHED-TTL:P3D
REFRESH-INTERVAL:P3D
CALSCALE:GREGORIAN
BEGIN:VEVENT
DTSTART:20190911T180000Z
DTEND:20190911T220000Z
X-MICROSOFT-CDO-ALLDAYEVENT:FALSE
SUMMARY:St. Lawrence Health System Career Fair - Gouverneur
DESCRIPTION:St. Lawrence Health System Career Fair at Gouverneur Hospital\, Community Room. \n\nJob openings include:\n\n\n	Clinical Laboratory Technologists\n	Collections and Denials Management\n	Laundry and Building Attendants \n	Echo Technologist\n	Licensed Practical Nurses\n	Medical Assistants\n	Medical Laboratory Technologist\n	Nurse Aides\n	Nutritional and Dietary Services\n	Patient Financial Services\n	Patient Registration\n	Patient Representatives\n	Phlebotomist\n	Radiological Technologist\n	Recovery Specialist\n	Registered Nurses\n	Speech Language Pathologist\n	Ultrasound Technologists\n	Unit Clerks\n\nView complete postings and apply online at StLawrenceHealthSystem.org\n\nPre-register by calling (315) 261-5452 and ask for Gary\, or going online to http://bit.ly/slhscareerfair\n\nWalk-ins are welcome.
X-ALT-DESC;FMTTYPE=text/html:<p>St. Lawrence Health System Career Fair at Gouverneur Hospital\, Community Room.&nbsp\;</p>\n\n<p>Job openings include:</p>\n\n<ul>\n	<li>Clinical Laboratory Technologists</li>\n	<li>Collections and Denials Management</li>\n	<li>Laundry and Building Attendants&nbsp\;</li>\n	<li>Echo Technologist</li>\n	<li>Licensed Practical Nurses</li>\n	<li>Medical Assistants</li>\n	<li>Medical Laboratory Technologist</li>\n	<li>Nurse Aides</li>\n	<li>Nutritional and Dietary Services</li>\n	<li>Patient Financial Services</li>\n	<li>Patient Registration</li>\n	<li>Patient Representatives</li>\n	<li>Phlebotomist</li>\n	<li>Radiological Technologist</li>\n	<li>Recovery Specialist</li>\n	<li>Registered Nurses</li>\n	<li>Speech Language Pathologist</li>\n	<li>Ultrasound Technologists</li>\n	<li>Unit Clerks</li>\n</ul>\nView complete postings and apply online at <a href="http://StLawrenceHealthSystem.org">StLawrenceHealthSystem.org</a>\n\n<p>Pre-register by calling (315) 261-5452 and ask for Gary\, or going online to <a href="http://bit.ly/slhscareerfair">http://bit.ly/slhscareerfair</a></p>\n\n<p>Walk-ins are welcome.</p>\n
LOCATION:77 Barney Street\, Gouverneur
UID:e.2288.8249
SEQUENCE:3
DTSTAMP:20260425T160923Z
URL:http://visitstl-gzcms.preview.gochambermaster.com/events/details/st-lawrence-health-system-career-fair-gouverneur-8249
END:VEVENT

END:VCALENDAR
