BEGIN:VCALENDAR
VERSION:2.0
PRODID:-//ChamberMaster//Event Calendar 2.0//EN
METHOD:PUBLISH
X-PUBLISHED-TTL:P3D
REFRESH-INTERVAL:P3D
CALSCALE:GREGORIAN
BEGIN:VEVENT
DTSTART;VALUE=DATE:20240718
DTEND;VALUE=DATE:20240721
TRANSP:TRANSPARENT
X-MICROSOFT-CDO-ALLDAYEVENT:TRUE
SUMMARY:St. Lawrence International Jr. Carp Tournament
DESCRIPTION:ST. LAWRENCE INTERNATIONAL JR. CARP TOURNAMENT\n\nThe 21st Annual St. Lawrence International Junior Carp Fishing Tournament\, hosted by the Carp Anglers Group\, will be held on July 18 - 20\, 2024 with headquarters in Waddington\, NY. This three-day Catch & Release Fishing Event will include two-days of fishing along a 30-mile stretch of the St. Lawrence River. Trophies and cash prizes are awarded to winners & runners up. The Carp Anglers Group will provide assistance for children throughout the 3-day event. \n\n\n\nWho is Eligible?\n\nParticipants must be ages 11 - 18 to register\, and are eligible for trophies and cash prizes. Participants also qualify if:\n\n	You turn 11 years of age between July 18th and August 31st\, 2024\n	You turn 19 years of age between July 1st and July 18th\, 2024\n\n(4) Age Divisions:\n\n\n	11 - 14 Girls\n	11 - 14 Boys\n	15 - 18 Girls\n	15 - 18 Boys\n\nAwards:\n\nPrizes are awarded in each of the (4) divisions\, based on heaviest (4) carp caught. ** Note: The following values are based from 2023 prize packages\, but SUBJECT TO CHANGE DEPENDENT OF NUMBER OF REGISTRANTS.\n\n	1st Place- Trophy and $800*\n	2nd Place- Trophy and $400*\n	3rd Place- Trophy and $200*\n	Overall Grand Champion - an additional $1\,000*\n	Riley Basford Memorial Sportsmanship Award\n\nThere is also a large variety of miscellaneous awards that vary from year to year including: first fish\, last fish\, smallest fish\, biggest fish\, good effort\, and special catch.\n\n\n\nTeams:\n\nParticipants all complete individually\, however\, may also be part of a team of 2\, 3\, or 4 people to qualify for team prizes.\n\n	1st Place - Gold Medal\n	2nd Place - Silver Medal\n	3rd Place - Bronze Medal\n\nRegistration\n\n\n	Download 2024 Junior Carp Tournament Registration & Information Packet HERE\n	Deadline for registration is Friday\, July 5th.\n	Registration cost covers the Carp Fishing School\, as well as the 2-day tournament\n\nParticipant Sponsorship Opportunities & Equipment Rentals\n\nA limited amount of participant sponsorships are available for those who qualify and equipment is available for fist time participants who would like to 'give carp fishing a try' before renting or buying your own. Availability is on a first come\, first serve basis. \n\n\n\nVolunteers\, Sponsors\, & Donations Opportunities\n\nThe Carp Anglers Group is looking for volunteers\, sponsors\, and donations.\n\nFor more information\, contact: jrcarptournament@gmail.com.\n\n\n\nContacts\n\nEvent Organizers\n\n	Jo Ann Roberts: (315) 244-1909\n	Abby McNamara: (315) 244-8509\n\nLogistics & Equipment\n\n\n	Bob Giordano: (315) 323-4632
X-ALT-DESC;FMTTYPE=text/html:<strong><span style="font-size:20px\;">ST. LAWRENCE INTERNATIONAL JR. CARP TOURNAMENT</span></strong><br />\nThe 21st Annual St. Lawrence International&nbsp\;Junior Carp Fishing Tournament\, hosted by the <a href="https://www.carpanglersgroup.com/main/" target="_blank">Carp Anglers Group</a>\,<strong>&nbsp\;</strong>will be&nbsp\;held on July 18 - 20\, 2024 with headquarters in Waddington\, NY. This three-day <em>Catch &amp\; Release</em>&nbsp\;Fishing Event will include two-days of fishing along a 30-mile stretch of the St. Lawrence River.&nbsp\;Trophies and cash prizes are awarded to winners &amp\; runners up. The Carp Anglers Group will provide assistance for children throughout the 3-day event.&nbsp\;<br />\n<br />\n<u>Who is Eligible?</u><br />\nParticipants must be ages 11 - 18 to register\, and are eligible for trophies and cash prizes. Participants also qualify if:\n<ul>\n	<li>You turn 11 years of age between July 18th and August 31st\, 2024</li>\n	<li>You turn 19 years of age between July 1st and July 18th\, 2024</li>\n</ul>\n<u>(4) Age Divisions:</u>\n\n<ul>\n	<li>11 - 14 Girls</li>\n	<li>11 - 14 Boys</li>\n	<li>15 - 18 Girls</li>\n	<li>15 - 18 Boys</li>\n</ul>\n<u>Awards:</u><br />\nPrizes are awarded in each of the (4) divisions\, based on heaviest (4) carp caught. ** Note: The following values are based from 2023 prize packages\, but SUBJECT TO CHANGE DEPENDENT OF NUMBER OF REGISTRANTS.\n<ul>\n	<li>1st Place- Trophy and $800*</li>\n	<li>2nd Place- Trophy and $400*</li>\n	<li>3rd Place- Trophy and $200*</li>\n	<li>Overall Grand Champion - an additional $1\,000*</li>\n	<li>Riley Basford Memorial Sportsmanship Award</li>\n</ul>\nThere is also a large variety of miscellaneous awards that vary from year to year including: first fish\, last fish\, smallest fish\, biggest fish\, good effort\, and special catch.<br />\n<br />\n<u>Teams:</u><br />\nParticipants all complete individually\, however\, may also be part of a team of 2\, 3\, or 4 people to qualify for team prizes.\n<ul>\n	<li>1st Place - Gold Medal</li>\n	<li>2nd Place - Silver Medal</li>\n	<li>3rd Place - Bronze Medal</li>\n</ul>\n<span style="font-size:20px\;">Registration</span>\n\n<ul>\n	<li><a href="https://files.constantcontact.com/0e2d0b0a401/3d90927f-c352-4cff-915e-67c0d0682065.pdf" target="_blank">Download 2024 Junior Carp Tournament Registration &amp\; Information Packet HERE</a></li>\n	<li>Deadline for registration is Friday\, July 5th.</li>\n	<li>Registration cost covers the Carp Fishing School\, as well as the 2-day tournament</li>\n</ul>\n<span style="font-size:20px\;">Participant Sponsorship Opportunities &amp\; Equipment Rentals</span><br />\nA limited amount of participant sponsorships are available for those who qualify and equipment is available for fist time participants who would like to &#39\;give carp fishing a try&#39\; before renting or buying your own. Availability is on a first come\, first serve basis.&nbsp\;<br />\n<br />\n<span style="font-size:20px\;">Volunteers\, Sponsors\, &amp\; Donations Opportunities</span><br />\nThe Carp Anglers Group is looking for volunteers\, sponsors\, and donations.<br />\nFor more information\, contact:&nbsp\;<a href="mailto:jrcarptournament@gmail.com">jrcarptournament@gmail.com</a>.<br />\n<br />\n<span style="font-size:20px\;">Contacts</span><br />\nEvent Organizers\n<ul>\n	<li>Jo Ann Roberts: (315) 244-1909</li>\n	<li>Abby McNamara: (315) 244-8509</li>\n</ul>\nLogistics &amp\; Equipment\n\n<ul>\n	<li>Bob Giordano: (315) 323-4632</li>\n</ul>\n
LOCATION:St. Lawrence River\, between Ogdensburg and Massena
UID:e.2288.17654
SEQUENCE:3
DTSTAMP:20260422T040116Z
URL:http://visitstl-gzcms.preview.gochambermaster.com/events/details/st-lawrence-international-jr-carp-tournament-17654
END:VEVENT

END:VCALENDAR
