BEGIN:VCALENDAR
VERSION:2.0
PRODID:-//ChamberMaster//Event Calendar 2.0//EN
METHOD:PUBLISH
X-PUBLISHED-TTL:P3D
REFRESH-INTERVAL:P3D
CALSCALE:GREGORIAN
BEGIN:VEVENT
DTSTART:20210904T133000Z
DTEND:20210904T220000Z
X-MICROSOFT-CDO-ALLDAYEVENT:FALSE
SUMMARY:St. Lawrence Power and Equipment Museum hosting 30th annual Old Fashioned Harvest Days in Madrid
DESCRIPTION:The St. Lawrence Power and Equipment Museum\, located at 1755 State Highway 345\, is hosting the 30th annual Old Fashioned Harvest Days on Sept. 4 and 5.\n\nCivil War Center tours\, an antique engine\, car\, truck and tractor displays will be featured. The Collection Building\, 1850's one-room schoolhouse\, Carriage Barn\, log cabin and many other attractions will be open to the public as well.\n\nA sawmill\, corn harvesting\, blacksmith demonstrations\, farm animals\, baked good attic treasures\, crafts\, tractor parades\, and food will be available both days.\n\nAdmission is $5 for ages 12 and older.\n\n \n\nSaturday\n\n9:30 to 11 a.m.: harvesting and chopping corn\n\n10 a.m. to 4 p.m.: Antique auto and truck exhibit\n\n10 a.m.: Pony pull\n\n11 a.m.: Garden tractor pull\n\n11 a.m. to noon: Sawmill and shingle mill operating\n\n12:30 p.m.: Tractor and horse parade\n\n1 p.m.: Draft horse pull\n\n1 to 2:30 p.m.: Corn harvesting/chopping\; kids pedal tractor races\n\n2 to 3 p.m.: Sawmill and shingle mill operating\n\n2:30 p.m.: Goldenaires singing performance\n\n3 p.m.: 50-50 and raffle winners announced\n\n4:30 to 6 p.m.: Roast pork dinner with all the trimmings
X-ALT-DESC;FMTTYPE=text/html:<p style="box-sizing: border-box\; margin: 2px 0px 20px\; font-variant-numeric: normal\; font-variant-east-asian: normal\; font-stretch: normal\; font-size: 13px\; line-height: 1.231\; font-family: arial\, helvetica\, clean\, sans-serif\; color: rgb(51\, 51\, 51)\;">The St. Lawrence Power and Equipment Museum\, located at 1755 State Highway 345\, is hosting the 30th annual Old Fashioned Harvest Days on Sept. 4 and 5.</p>\n\n<p style="box-sizing: border-box\; margin: 2px 0px 20px\; font-variant-numeric: normal\; font-variant-east-asian: normal\; font-stretch: normal\; font-size: 13px\; line-height: 1.231\; font-family: arial\, helvetica\, clean\, sans-serif\; color: rgb(51\, 51\, 51)\;">Civil War Center tours\, an antique engine\, car\, truck and tractor displays will be featured. The Collection Building\, 1850&rsquo\;s one-room schoolhouse\, Carriage Barn\, log cabin and many other attractions will be open to the public as well.</p>\n\n<p style="box-sizing: border-box\; margin: 2px 0px 20px\; font-variant-numeric: normal\; font-variant-east-asian: normal\; font-stretch: normal\; font-size: 13px\; line-height: 1.231\; font-family: arial\, helvetica\, clean\, sans-serif\; color: rgb(51\, 51\, 51)\;">A sawmill\, corn harvesting\, blacksmith demonstrations\, farm animals\, baked good attic treasures\, crafts\, tractor parades\, and food will be available both days.</p>\n\n<p style="box-sizing: border-box\; margin: 2px 0px 20px\; font-variant-numeric: normal\; font-variant-east-asian: normal\; font-stretch: normal\; font-size: 13px\; line-height: 1.231\; font-family: arial\, helvetica\, clean\, sans-serif\; color: rgb(51\, 51\, 51)\;">Admission is $5 for ages 12 and older.<br />\n&nbsp\;</p>\n\n<p style="box-sizing: border-box\; margin: 2px 0px 20px\; font-variant-numeric: normal\; font-variant-east-asian: normal\; font-stretch: normal\; font-size: 13px\; line-height: 1.231\; font-family: arial\, helvetica\, clean\, sans-serif\; color: rgb(51\, 51\, 51)\;"><span style="box-sizing: border-box\; font-weight: 700\;">Saturday</span></p>\n\n<p style="box-sizing: border-box\; margin: 2px 0px 20px\; font-variant-numeric: normal\; font-variant-east-asian: normal\; font-stretch: normal\; font-size: 13px\; line-height: 1.231\; font-family: arial\, helvetica\, clean\, sans-serif\; color: rgb(51\, 51\, 51)\;">9:30 to 11 a.m.: harvesting and chopping corn</p>\n\n<p style="box-sizing: border-box\; margin: 2px 0px 20px\; font-variant-numeric: normal\; font-variant-east-asian: normal\; font-stretch: normal\; font-size: 13px\; line-height: 1.231\; font-family: arial\, helvetica\, clean\, sans-serif\; color: rgb(51\, 51\, 51)\;">10 a.m. to 4 p.m.: Antique auto and truck exhibit</p>\n\n<p style="box-sizing: border-box\; margin: 2px 0px 20px\; font-variant-numeric: normal\; font-variant-east-asian: normal\; font-stretch: normal\; font-size: 13px\; line-height: 1.231\; font-family: arial\, helvetica\, clean\, sans-serif\; color: rgb(51\, 51\, 51)\;">10 a.m.: Pony pull</p>\n\n<p style="box-sizing: border-box\; margin: 2px 0px 20px\; font-variant-numeric: normal\; font-variant-east-asian: normal\; font-stretch: normal\; font-size: 13px\; line-height: 1.231\; font-family: arial\, helvetica\, clean\, sans-serif\; color: rgb(51\, 51\, 51)\;">11 a.m.: Garden tractor pull</p>\n\n<p style="box-sizing: border-box\; margin: 2px 0px 20px\; font-variant-numeric: normal\; font-variant-east-asian: normal\; font-stretch: normal\; font-size: 13px\; line-height: 1.231\; font-family: arial\, helvetica\, clean\, sans-serif\; color: rgb(51\, 51\, 51)\;">11 a.m. to noon: Sawmill and shingle mill operating</p>\n\n<p style="box-sizing: border-box\; margin: 2px 0px 20px\; font-variant-numeric: normal\; font-variant-east-asian: normal\; font-stretch: normal\; font-size: 13px\; line-height: 1.231\; font-family: arial\, helvetica\, clean\, sans-serif\; color: rgb(51\, 51\, 51)\;">12:30 p.m.: Tractor and horse parade</p>\n\n<p style="box-sizing: border-box\; margin: 2px 0px 20px\; font-variant-numeric: normal\; font-variant-east-asian: normal\; font-stretch: normal\; font-size: 13px\; line-height: 1.231\; font-family: arial\, helvetica\, clean\, sans-serif\; color: rgb(51\, 51\, 51)\;">1 p.m.: Draft horse pull</p>\n\n<p style="box-sizing: border-box\; margin: 2px 0px 20px\; font-variant-numeric: normal\; font-variant-east-asian: normal\; font-stretch: normal\; font-size: 13px\; line-height: 1.231\; font-family: arial\, helvetica\, clean\, sans-serif\; color: rgb(51\, 51\, 51)\;">1 to 2:30 p.m.: Corn harvesting/chopping\; kids pedal tractor races</p>\n\n<p style="box-sizing: border-box\; margin: 2px 0px 20px\; font-variant-numeric: normal\; font-variant-east-asian: normal\; font-stretch: normal\; font-size: 13px\; line-height: 1.231\; font-family: arial\, helvetica\, clean\, sans-serif\; color: rgb(51\, 51\, 51)\;">2 to 3 p.m.: Sawmill and shingle mill operating</p>\n\n<p style="box-sizing: border-box\; margin: 2px 0px 20px\; font-variant-numeric: normal\; font-variant-east-asian: normal\; font-stretch: normal\; font-size: 13px\; line-height: 1.231\; font-family: arial\, helvetica\, clean\, sans-serif\; color: rgb(51\, 51\, 51)\;">2:30 p.m.: Goldenaires singing performance</p>\n\n<p style="box-sizing: border-box\; margin: 2px 0px 20px\; font-variant-numeric: normal\; font-variant-east-asian: normal\; font-stretch: normal\; font-size: 13px\; line-height: 1.231\; font-family: arial\, helvetica\, clean\, sans-serif\; color: rgb(51\, 51\, 51)\;">3 p.m.: 50-50 and raffle winners announced</p>\n\n<p style="box-sizing: border-box\; margin: 2px 0px 20px\; font-variant-numeric: normal\; font-variant-east-asian: normal\; font-stretch: normal\; font-size: 13px\; line-height: 1.231\; font-family: arial\, helvetica\, clean\, sans-serif\; color: rgb(51\, 51\, 51)\;">4:30 to 6 p.m.: Roast pork dinner with all the trimmings</p>\n\n<p style="box-sizing: border-box\; margin: 2px 0px 20px\; font-variant-numeric: normal\; font-variant-east-asian: normal\; font-stretch: normal\; font-size: 13px\; line-height: 1.231\; font-family: arial\, helvetica\, clean\, sans-serif\; color: rgb(51\, 51\, 51)\;">&nbsp\;</p>\n
LOCATION:The St. Lawrence Power and Equipment Museum\, located at 1755 State Highway 34 Madrid
UID:e.2288.10709
SEQUENCE:3
DTSTAMP:20260421T185550Z
URL:http://visitstl-gzcms.preview.gochambermaster.com/events/details/st-lawrence-power-and-equipment-museum-hosting-30th-annual-old-fashioned-harvest-days-in-madrid-10709
END:VEVENT

END:VCALENDAR
