BEGIN:VCALENDAR
VERSION:2.0
PRODID:-//ChamberMaster//Event Calendar 2.0//EN
METHOD:PUBLISH
X-PUBLISHED-TTL:P3D
REFRESH-INTERVAL:P3D
CALSCALE:GREGORIAN
BEGIN:VEVENT
DTSTART;VALUE=DATE:20240402
DTEND;VALUE=DATE:20240403
TRANSP:TRANSPARENT
X-MICROSOFT-CDO-ALLDAYEVENT:TRUE
SUMMARY:Star Crafts at Nicandri Center (Massena\, NY)
DESCRIPTION:NICANDRI NATURE CENTER\n\nSTAR CRAFTS\n\nThe Nicandri Nature Center will be hosting a variety of Star Craft activities on April 1-7 leading up to the Total Solar Eclipse. Star Craft activities include: solar prints\, chalk art eclipses\, constellation crafts\, eclipse spinners\, and pinhole viewers. The Nicandri Nature Center is located at 23 Robinson Road\, Massena\, NY. \n\n\n\nOperating Hours:\n\nWednesday - Sunday from 9:00am - 5:00pm
X-ALT-DESC;FMTTYPE=text/html:<span style="color:#000033\;"><span style="font-size: 20px\;"><b>NICANDRI NATURE CENTER</b><br />\nSTAR CRAFTS</span></span><br />\n<span style="font-size:16px\;">The Nicandri Nature Center will be hosting a variety of Star Craft activities on April 1-7 leading up to the Total Solar Eclipse. Star Craft activities include: solar prints\, chalk art eclipses\, constellation crafts\, eclipse spinners\, and pinhole viewers.&nbsp\;The Nicandri Nature Center is located at 23 Robinson Road\, Massena\, NY.&nbsp\;</span><br />\n<br />\n<strong>Operating Hours:</strong><br />\nWednesday - Sunday from 9:00am - 5:00pm
LOCATION:Nicandri Nature Center 23 Robinson Bay Rd Massena\, NY 13662
UID:e.2288.16816
SEQUENCE:3
DTSTAMP:20260422T020247Z
URL:http://visitstl-gzcms.preview.gochambermaster.com/events/details/star-crafts-pinhole-viewers-04-02-2024-16816
END:VEVENT

END:VCALENDAR
