BEGIN:VCALENDAR
VERSION:2.0
PRODID:-//ChamberMaster//Event Calendar 2.0//EN
METHOD:PUBLISH
X-PUBLISHED-TTL:P3D
REFRESH-INTERVAL:P3D
CALSCALE:GREGORIAN
BEGIN:VEVENT
DTSTART:20250419T230000Z
DTEND:20250420T010000Z
X-MICROSOFT-CDO-ALLDAYEVENT:FALSE
SUMMARY:Star Wars Movie Trivia Night
DESCRIPTION:Star Wars Movie Trivia Night\n\n\n\nCalling all Jawas\, Wookies\, and Scruffy-looking Nerf-Herders! Join for an evening of Star Wars Movie Trivia\, while you settle into the Canton Apple Cider House\, have some nosh\, and get ready to show off your knowledge of Star Wars Movies. Come with a team assembled\, or make some new friends and create one when you arrive. May the force be with you!
X-ALT-DESC;FMTTYPE=text/html:<span style="font-size:18px\;"><strong>Star Wars Movie Trivia Night</strong></span><br />\n<br />\nCalling all Jawas\, Wookies\, and Scruffy-looking Nerf-Herders! Join for an evening of Star Wars Movie Trivia\, while you settle into the Canton Apple Cider House\, have some nosh\, and get ready to show off your knowledge of Star Wars Movies.&nbsp\;Come with a team assembled\, or make some new friends and create one when you arrive.&nbsp\;May the force be with you!
LOCATION:Canton Apple & Cider LLC 339 NY-310\, Canton NY 13617
UID:e.2288.20077
SEQUENCE:3
DTSTAMP:20260421T131309Z
URL:http://visitstl-gzcms.preview.gochambermaster.com/events/details/star-wars-movie-trivia-night-20077
END:VEVENT

END:VCALENDAR
