BEGIN:VCALENDAR
VERSION:2.0
PRODID:-//ChamberMaster//Event Calendar 2.0//EN
METHOD:PUBLISH
X-PUBLISHED-TTL:P3D
REFRESH-INTERVAL:P3D
CALSCALE:GREGORIAN
BEGIN:VEVENT
DTSTART:20231101T160000Z
DTEND:20231101T170000Z
X-MICROSOFT-CDO-ALLDAYEVENT:FALSE
SUMMARY:STLC Chamber Lunch & Learn: Social Media
DESCRIPTION:STLC CHAMBER MONTHY LUNCH & LEARN SERIES\n\nNovember Webinar Features: Social Media\n\n\n\nThe St. Lawrence County Chamber of Commerce will host a Lunch & Learn Webinar on Wednesday\, November 1 at noon\, presenting "Social Media". In this webinar\, Nicole Ouellette of Breaking Even Communications\, will teach the basics of Facebook\, Instagram and TikTok.\n\n\n\nIt's official\, social media is completely unavoidable if you run most kinds of businesses. It can feel a bit overwhelming if you don't know how it works or what you are supposed to do when you get there\, but if you are not a social media person\, this training is for you! Nicole will talk about the basics of how social media sites work\, as well as give you ideas for content. She will also look at the features specific to businesses and look at examples so you will be able to take what you learn and apply it to whatever social network you want to use.\n\n\n\nDiscuss how Breaking Even Communications mission is to create and connect talent pipelines to the opportunities of their business customers. Their Business Services teams assist businesses who are growing and thriving\, as well as businesses who are facing downsizing and closures with layoff aversion and Rapid Response services.\n\n\n\nThis webinar is part of the St. Lawrence County Chamber's Monthly Webinar Series. We thank our webinar series sponsors\, St. Lawrence University and Clarkson University for supporting this educational opportunity for Members and Non-members. \n\n\n\nMissed other webinars? Find them on the "SLC Chamber NY" YouTube channel\, HERE!
X-ALT-DESC;FMTTYPE=text/html:<span style="color:#004f71\;"><span style="font-size:20px\;"><span style="font-size:22px\;"><strong>STLC CHAMBER MONTHY LUNCH &amp\; LEARN SERIES</strong></span><br />\n<span style="font-size:22px\;">November Webinar Features: Social Media</span></span></span><br />\n<br />\nThe St. Lawrence County Chamber of Commerce will host a Lunch &amp\;&nbsp\;Learn Webinar on Wednesday\, November 1 at noon\, presenting<strong> &quot\;Social Media&quot\;</strong>.&nbsp\;In this webinar\,&nbsp\;Nicole Ouellette of <a href="https://breakingeveninc.com/" target="_blank">Breaking Even Communications</a>\, will teach the basics of Facebook\, Instagram and TikTok.<br />\n<br />\nIt&#39\;s official\, social media is completely unavoidable if you run most kinds of businesses. It can feel a bit overwhelming if you don&#39\;t know how it works or what you are supposed to do when you get there\, but if you are not a social media person\, this training is for you! Nicole will talk about the basics of how social media sites work\, as well as give you ideas for content. She will also look at the features specific to businesses and look at examples so you will be able to take what you learn and apply it to whatever social network you want to use.<br />\n<br />\nDiscuss how Breaking Even Communications mission is to create and connect talent pipelines to the opportunities of their business customers.&nbsp\;Their Business Services teams assist businesses who are growing and thriving\, as well as businesses who are facing downsizing and closures with layoff aversion and Rapid Response services.<br />\n<br />\nThis webinar is part of the St. Lawrence County Chamber&#39\;s Monthly Webinar Series.&nbsp\;We thank our webinar series sponsors\,&nbsp\;St. Lawrence University and Clarkson University for supporting this educational opportunity for Members and Non-members.&nbsp\;<br />\n<br />\n<strong><a href="http://www.youtube.com/@slcchamberny9989" target="_blank">Missed other webinars? Find them&nbsp\;on the &quot\;SLC Chamber NY&quot\; YouTube channel\,&nbsp\;HERE!</a></strong>
LOCATION:This webinar will be presented on the Zoom platform.
UID:e.2288.15430
SEQUENCE:3
DTSTAMP:20260422T183534Z
URL:http://visitstl-gzcms.preview.gochambermaster.com/events/details/stlc-chamber-lunch-learn-social-media-15430
END:VEVENT

END:VCALENDAR
